BEGIN:VCALENDAR
VERSION:2.0
PRODID:-//ChamberMaster//Event Calendar 2.0//EN
METHOD:PUBLISH
X-PUBLISHED-TTL:P3D
REFRESH-INTERVAL:P3D
CALSCALE:GREGORIAN
BEGIN:VEVENT
DTSTART:20100829T050000Z
DTEND:20100829T060000Z
X-MICROSOFT-CDO-ALLDAYEVENT:FALSE
SUMMARY:2010 Star Party
DESCRIPTION:2010 star parties at the Stansbury Park Observatory Complex (SPOC) will be held from dusk to 11:00 p.m. For additional information seeSLAS.US or call 801-882-1209
X-ALT-DESC;FMTTYPE=text/html:<div><div><span style="font-size: 11pt\; font-family: 'Calibri'\,'sans-serif'\; mso-ascii-theme-font: minor-latin\; mso-fareast-font-family: Calibri\; mso-fareast-theme-font: minor-latin\; mso-hansi-theme-font: minor-latin\; mso-bidi-font-family: &rsquo\;Times New Roman&rsquo\;\; mso-bidi-theme-font: minor-bidi\; mso-ansi-language: EN-US\; mso-fareast-language: EN-US\; mso-bidi-language: AR-SA">2010 star parties at the </span></div><div><span style="font-size: 11pt\; font-family: 'Calibri'\,'sans-serif'\; mso-ascii-theme-font: minor-latin\; mso-fareast-font-family: Calibri\; mso-fareast-theme-font: minor-latin\; mso-hansi-theme-font: minor-latin\; mso-bidi-font-family: &rsquo\;Times New Roman&rsquo\;\; mso-bidi-theme-font: minor-bidi\; mso-ansi-language: EN-US\; mso-fareast-language: EN-US\; mso-bidi-language: AR-SA">Stansbury Park Observatory Complex (SPOC) </span></div><div><span style="font-size: 11pt\; font-family: 'Calibri'\,'sans-serif'\; mso-ascii-theme-font: minor-latin\; mso-fareast-font-family: Calibri\; mso-fareast-theme-font: minor-latin\; mso-hansi-theme-font: minor-latin\; mso-bidi-font-family: &rsquo\;Times New Roman&rsquo\;\; mso-bidi-theme-font: minor-bidi\; mso-ansi-language: EN-US\; mso-fareast-language: EN-US\; mso-bidi-language: AR-SA">will be held from dusk to 11:00 p.m. </span></div><div><span style="font-size: 11pt\; font-family: 'Calibri'\,'sans-serif'\; mso-ascii-theme-font: minor-latin\; mso-fareast-font-family: Calibri\; mso-fareast-theme-font: minor-latin\; mso-hansi-theme-font: minor-latin\; mso-bidi-font-family: &rsquo\;Times New Roman&rsquo\;\; mso-bidi-theme-font: minor-bidi\; mso-ansi-language: EN-US\; mso-fareast-language: EN-US\; mso-bidi-language: AR-SA">For additional information see</span></div><div><span style="font-size: 11pt\; font-family: 'Calibri'\,'sans-serif'\; mso-ascii-theme-font: minor-latin\; mso-fareast-font-family: Calibri\; mso-fareast-theme-font: minor-latin\; mso-hansi-theme-font: minor-latin\; mso-bidi-font-family: &rsquo\;Times New Roman&rsquo\;\; mso-bidi-theme-font: minor-bidi\; mso-ansi-language: EN-US\; mso-fareast-language: EN-US\; mso-bidi-language: AR-SA">SLAS.US or call 801-882-1209</span></div></div>
LOCATION:
UID:e.125.3109
SEQUENCE:3
DTSTAMP:20260423T013137Z
URL:https://business.tooelechamber.com/events/details/2010-star-party-08-28-2010-3109
END:VEVENT

END:VCALENDAR
