BEGIN:VCALENDAR
VERSION:2.0
PRODID:-//ChamberMaster//Event Calendar 2.0//EN
METHOD:PUBLISH
X-PUBLISHED-TTL:P3D
REFRESH-INTERVAL:P3D
CALSCALE:GREGORIAN
BEGIN:VEVENT
DTSTART:20101023T190000Z
DTEND:20101023T220000Z
X-MICROSOFT-CDO-ALLDAYEVENT:FALSE
SUMMARY:20th Annual Family Halloween Carnival
DESCRIPTION:Together With Youth\n\n	Presents: The 20th Annual\n\n	Family Halloween Carnival\n\n	Saturday\, October 23rd from 1-4pm\n\n	Dow James Building\n\n	438 West 400 North\, Tooele\n\n	Food\, games\, fortune telling\, face painting\, cookie decorating\, costume parade (at 2:30)\n\n	and MUCH\, MUCH\, MORE!!\n\n	Cost: $1 can of food to be donated to the\n\n	Tooele Food Bank\n\n	Come enjoy the fun!!\n\n	FOOD AND FUN ARE FREE!!\n\n	This is a drug and violence free activity!!
X-ALT-DESC;FMTTYPE=text/html:<p style="text-align: center">\n	<span style="font-size: 22px">Together With Youth<br />\n	Presents: The 20th Annual<br />\n	Family Halloween Carnival<br />\n	Saturday\, October 23rd from 1-4pm<br />\n	Dow James Building<br />\n	438 West 400 North\, Tooele<br />\n	Food\, games\, fortune telling\, face painting\, cookie decorating\, costume parade (at 2:30)<br />\n	and MUCH\, MUCH\, MORE!!<br />\n	Cost: $1 can of food to be donated to the<br />\n	Tooele Food Bank<br />\n	Come enjoy the fun!!<br />\n	FOOD AND FUN ARE FREE!!<br />\n	This is a drug and violence free activity!! </span></p>\n
LOCATION:
UID:e.125.3253
SEQUENCE:3
DTSTAMP:20260422T222707Z
URL:https://business.tooelechamber.com/events/details/20th-annual-family-halloween-carnival-10-23-2010-3253
END:VEVENT

END:VCALENDAR
