BEGIN:VCALENDAR
VERSION:2.0
PRODID:-//ChamberMaster//Event Calendar 2.0//EN
METHOD:PUBLISH
X-PUBLISHED-TTL:P3D
REFRESH-INTERVAL:P3D
CALSCALE:GREGORIAN
BEGIN:VEVENT
DTSTART;VALUE=DATE:20090307
DTEND;VALUE=DATE:20090308
TRANSP:TRANSPARENT
X-MICROSOFT-CDO-ALLDAYEVENT:TRUE
SUMMARY:401k Financial Class
DESCRIPTION:401k Financial Class Place: The Larry H. Miller Center\n9750 South 300 West \nSandy\, UT 84070 When: March 7th Time: 9:00AM - 5:00PM Contact: Jerid Johnsonjeridkj@gmail.com Notes: Plese come earlyInstructor:\nNotes: Del Hargis will be speaking at the Intensive. As the Client Development Director for American Pension Services\, Del Hargis is committed to assisting people in discovering the many financial benefits of self-directing their retirement plans. Del shares this message with investors across the country "retirement plans are not about the future\, they are about right now!"\n\nDel is a nationally requested inspirational speaker who encourages people to "never judge what you can accomplish today based on what you did not accomplish yesterday!"
X-ALT-DESC;FMTTYPE=text/html:<div align="center"><strong><font size="5">&nbsp\;401k Financial Class</font></strong></div><div align="center">&nbsp\;</div><div align="center"><strong>Place: </strong><strong>The Larry H. Miller Center<br />9750 South 300 West <br />Sandy\, UT 84070</strong></div><div align="center">&nbsp\;</div><div align="center"><strong>When</strong>: March 7th</div><div align="center">&nbsp\;</div><div align="center"><strong>Time:</strong> 9:00AM - 5:00PM</div><div>&nbsp\;</div><div align="center"><strong>Contact:</strong> Jerid Johnson</div><div align="center"><a href="mailto:jeridkj@gmail.com">jeridkj@gmail.com</a></div><div align="center">&nbsp\;</div><div align="center"><strong>Notes:</strong> Plese come early</div><div align="center">Instructor:<br />Notes: Del Hargis will be speaking at the Intensive. As the Client Development Director for American Pension Services\, Del Hargis is committed to assisting people in discovering the many financial benefits of self-directing their retirement plans. Del shares this message with investors across the country &quot\;retirement plans are not about the future\, they are about right now!&quot\;<br /><br /><strong>Del is a nationally requested inspirational speaker who encourages people to &quot\;never judge what you can accomplish today based on what you did not accomplish yesterday!&quot\;</strong></div>
LOCATION:
UID:e.125.546
SEQUENCE:3
DTSTAMP:20260424T053343Z
URL:https://business.tooelechamber.com/events/details/401k-financial-class-03-07-2009-546
END:VEVENT

END:VCALENDAR
