BEGIN:VCALENDAR
VERSION:2.0
PRODID:-//ChamberMaster//Event Calendar 2.0//EN
METHOD:PUBLISH
X-PUBLISHED-TTL:P3D
REFRESH-INTERVAL:P3D
CALSCALE:GREGORIAN
BEGIN:VEVENT
DTSTART;VALUE=DATE:20100703
DTEND;VALUE=DATE:20100704
TRANSP:TRANSPARENT
X-MICROSOFT-CDO-ALLDAYEVENT:TRUE
SUMMARY:4th of July Breakfast
DESCRIPTION:Tooele County Chamber of Commerce Saturday\, July 3\, 20104th of July Breakfast 7-8:30am Veterans Memorial Park
X-ALT-DESC;FMTTYPE=text/html:<div style="text-align: center"><span style="font-size: large">Tooele County Chamber of Commerce </span></div><div style="text-align: center"><span style="font-size: large">Saturday\, July 3\, 2010</span></div><div style="text-align: center"><span style="font-size: large">4th of July Breakfast 7-8:30am </span></div><div style="text-align: center"><span style="font-size: large">Veterans Memorial Park </span></div>
LOCATION:
UID:e.125.506
SEQUENCE:3
DTSTAMP:20260423T044909Z
URL:https://business.tooelechamber.com/events/details/4th-of-july-breakfast-07-03-2010-506
END:VEVENT

END:VCALENDAR
