BEGIN:VCALENDAR
VERSION:2.0
PRODID:-//ChamberMaster//Event Calendar 2.0//EN
METHOD:PUBLISH
X-PUBLISHED-TTL:P3D
REFRESH-INTERVAL:P3D
CALSCALE:GREGORIAN
BEGIN:VEVENT
DTSTART:20140704T130000Z
DTEND:20140704T143000Z
X-MICROSOFT-CDO-ALLDAYEVENT:FALSE
SUMMARY:4th of July Breakfast
DESCRIPTION:This community breakfast has been part of the Chamber of Commerce for the past several years.  It is a service we provide to the community.   Some breakfast items are donated by local businesses\, others items are purchased by the Chamber.    Breakfast is cooked and served by Chamber Board members and other Chamber participants.\n\nDonations Welcom
X-ALT-DESC;FMTTYPE=text/html:<span style="color:#0070C0\;"><span style="font-family:calibri\,sans-serif\;"><span style="font-size:14.0pt\;">This community breakfast has been part of the Chamber of Commerce for the past several years.&nbsp\; It is a service we provide to the community.&nbsp\;&nbsp\; Some breakfast items are donated by local businesses\, others items are purchased by the Chamber.&nbsp\;&nbsp\;&nbsp\; Breakfast is cooked and served by Chamber Board members and other Chamber participants.</span></span></span><br />\n<span style="color:#0070C0\;"><span style="font-family:calibri\,sans-serif\;"><span style="font-size:14.0pt\;">Donations Welcom</span></span></span>
LOCATION:Veteran's Memorial Park Vine Street and Main Street Tooele
UID:e.125.5339
SEQUENCE:3
DTSTAMP:20260419T162746Z
URL:https://business.tooelechamber.com/events/details/4th-of-july-breakfast-07-04-2014-5339
END:VEVENT

END:VCALENDAR
