BEGIN:VCALENDAR
VERSION:2.0
PRODID:-//ChamberMaster//Event Calendar 2.0//EN
METHOD:PUBLISH
X-PUBLISHED-TTL:P3D
REFRESH-INTERVAL:P3D
CALSCALE:GREGORIAN
BEGIN:VEVENT
DTSTART;VALUE=DATE:20100702
DTEND;VALUE=DATE:20100704
TRANSP:TRANSPARENT
X-MICROSOFT-CDO-ALLDAYEVENT:TRUE
SUMMARY:4th of July Celebration at Deseret Peak
DESCRIPTION:Come celebrate Independence Day in style at the Deseret Peak Complex. Start the day off at your local parade and then head on down. Beat the heat at our aquatics center at a discount price. Don't forget about the traditional Bit & Spur Rodeo!When: Saturday\, July 3\, 2010Where: Deseret Peak Complex Time: All day Swimming Fee: $2.34 to celebrate 234 years of independence!Rodeo fee: TBA Fireworks!!!!(No parking on roadside)
X-ALT-DESC;FMTTYPE=text/html:<div><font size="1" face="Frutiger-LightCn"><font size="1" face="Frutiger-LightCn"><p align="center"><font size="4">Come celebrate Independence Day in style at the Deseret Peak Complex. Start the day off at your local parade and then head on down. Beat the heat at our aquatics center at a discount price. Don't forget about the traditional Bit &amp\; Spur Rodeo!</font></p><p align="center"><font size="4">When: Saturday\, July 3\, 2010</font></p><p align="center"><font size="4">Where: Deseret Peak Complex </font></p><p align="center"><font size="4">Time: All day </font></p><p align="center"><font size="4">Swimming Fee: $2.34 to celebrate 234 years of independence!</font></p><p align="center"><font size="4">Rodeo fee: TBA </font></p><p align="center"><font size="4">Fireworks!!!!</font></p><p align="center"><font size="4">(No parking on roadside)</font></p></font></font></div>
LOCATION:
UID:e.125.1007
SEQUENCE:3
DTSTAMP:20260423T032815Z
URL:https://business.tooelechamber.com/events/details/4th-of-july-celebration-at-deseret-peak-07-02-2010-1007
END:VEVENT

END:VCALENDAR
