BEGIN:VCALENDAR
VERSION:2.0
PRODID:-//ChamberMaster//Event Calendar 2.0//EN
METHOD:PUBLISH
X-PUBLISHED-TTL:P3D
REFRESH-INTERVAL:P3D
CALSCALE:GREGORIAN
BEGIN:VEVENT
DTSTART:20100424T140000Z
DTEND:20100424T180000Z
X-MICROSOFT-CDO-ALLDAYEVENT:FALSE
SUMMARY:5K Family Fun Run & Breakfast
DESCRIPTION:5K Family Fun Run & BreakfastFor The Tooele County Giants Proceeds will benefit the Tooele County Special Olympics Team April 24\, 2010 @ 8:00amRace begins at England Acres Park 910 N 400 E (off 1000 North) and will proceed south on Broadway\, east on 400 N\, north on Droubay\, west on 1000 N\, south on Broadway and end back at England Acres Park. Breakfast and activities to follow the race at England Acres Park.Registration begins at 7am on race day.Pre-register by April 17th and recieve a T-shirt. Any questions? Call Jolene Jolley: (435)830-2584\,Nicki Coates: (435)830-2883\,Kerri Evans: (435)830-9597\,Dixie Fails: (435)224-3018
X-ALT-DESC;FMTTYPE=text/html:<div style="text-align: center"><u><strong><span style="font-size: medium">5K Family Fun Run &amp\; Breakfast</span></strong></u></div><div style="text-align: center"><span style="font-size: small">For The Tooele County Giants </span></div><div style="text-align: center"><span style="font-size: small">Proceeds will benefit the Tooele County </span></div><div style="text-align: center"><span style="font-size: small">Special Olympics Team </span></div><div style="text-align: center"><span style="font-size: small">April 24\, 2010 @ 8:00am</span></div><div style="text-align: center"><span style="font-size: small">Race begins at England Acres Park 910 N 400 E </span><span style="font-size: small">(off 1000 North) </span><span style="font-size: small">and will proceed south on Broadway\, </span></div><div style="text-align: center"><span style="font-size: small">east on 400 N\, north on Droubay\, west on 1000 N\, </span></div><div style="text-align: center"><span style="font-size: small">south on Broadway and end back at England Acres Park. </span></div><div style="text-align: center"><span style="font-size: small">Breakfast and activities to follow </span></div><div style="text-align: center"><span style="font-size: small">the race at England Acres Park.</span></div><div style="text-align: center"><span style="font-size: small">Registration begins at 7am on race day.</span></div><div style="text-align: center"><div style="text-align: center"><span style="font-size: small">Pre-register by April 17th and recieve a T-shirt. </span></div><div style="text-align: center"><span style="font-size: small">Any questions? Call </span></div><div style="text-align: center"><span style="font-size: small">Jolene Jolley: (435)830-2584\,</span></div><div style="text-align: center"><span style="font-size: small">Nicki Coates: (435)830-2883\,</span></div><div style="text-align: center"><span style="font-size: small">Kerri Evans: (435)830-9597\,</span></div><div style="text-align: center"><span style="font-size: small">Dixie Fails: (435)224-3018</span></div><div>&nbsp\;</div><div>&nbsp\;</div></div><div>&nbsp\;</div>
LOCATION:
UID:e.125.3118
SEQUENCE:3
DTSTAMP:20260423T092523Z
URL:https://business.tooelechamber.com/events/details/5k-family-fun-run-breakfast-04-24-2010-3118
END:VEVENT

END:VCALENDAR
