BEGIN:VCALENDAR
VERSION:2.0
PRODID:-//ChamberMaster//Event Calendar 2.0//EN
METHOD:PUBLISH
X-PUBLISHED-TTL:P3D
REFRESH-INTERVAL:P3D
CALSCALE:GREGORIAN
BEGIN:VEVENT
DTSTART:20120915T133000Z
DTEND:20120915T230000Z
X-MICROSOFT-CDO-ALLDAYEVENT:FALSE
SUMMARY:5K Run for Tooele County Childrens Justice Center
DESCRIPTION:5K Fun Run for Tooele County Children's Justice Center\n\nWhen:  Saturday\, September 15\, 2012\n\nTime: Starting at 7:30 am\n\nWhere:  Miller Motorsports Park\n\n               2901 Sheep Lane\, Tooele\n\nPre-Registration until September 12th $15\n\nOn-Site registration $20\n\n\n\nContacts: Christine 435-224-4690\n\n                 Gail 801-228-8858\n\n\n\nEmail: childrens5k@hotmail.com
X-ALT-DESC;FMTTYPE=text/html:5K Fun Run for Tooele County Children&#39\;s Justice Center<br />\nWhen:&nbsp\; Saturday\, September 15\, 2012<br />\nTime: Starting at 7:30 am<br />\nWhere:&nbsp\; Miller Motorsports Park<br />\n&nbsp\;&nbsp\;&nbsp\;&nbsp\;&nbsp\;&nbsp\;&nbsp\;&nbsp\;&nbsp\;&nbsp\;&nbsp\;&nbsp\;&nbsp\;&nbsp\;&nbsp\;2901 Sheep Lane\, Tooele<br />\nPre-Registration until September 12th $15<br />\nOn-Site registration $20<br />\n<br />\nContacts: Christine 435-224-4690<br />\n&nbsp\;&nbsp\;&nbsp\;&nbsp\;&nbsp\;&nbsp\;&nbsp\;&nbsp\;&nbsp\;&nbsp\;&nbsp\;&nbsp\;&nbsp\;&nbsp\;&nbsp\;&nbsp\; Gail 801-228-8858<br />\n<br />\nEmail: childrens5k@hotmail.com
LOCATION:
UID:e.125.4844
SEQUENCE:3
DTSTAMP:20260421T090822Z
URL:https://business.tooelechamber.com/events/details/5k-run-for-tooele-county-childrens-justice-center-09-15-2012-4844
END:VEVENT

END:VCALENDAR
