BEGIN:VCALENDAR
VERSION:2.0
PRODID:-//ChamberMaster//Event Calendar 2.0//EN
METHOD:PUBLISH
X-PUBLISHED-TTL:P3D
REFRESH-INTERVAL:P3D
CALSCALE:GREGORIAN
BEGIN:VEVENT
DTSTART:20081115T170000Z
DTEND:20081115T213000Z
X-MICROSOFT-CDO-ALLDAYEVENT:FALSE
SUMMARY:5th Annual Caregiver Conference
DESCRIPTION:5th Annual Caregiver Conference & Resource Fair at Tooele Senior Citizens Center\, 59 E. Vine St.\, 10 am - 2:30 pmRegistration $10To register call Frank Reed at 435-882-2870\, ext 130
X-ALT-DESC;FMTTYPE=text/html:<div align="center"><font size="4">5th Annual Caregiver Conference &amp\; Resource Fair at </font></div><div align="center"><font size="4">Tooele Senior Citizens Center\, 59 E. Vine St.\, 10 am - 2:30 pm</font></div><div align="center"><font size="4">Registration $10</font></div><div align="center"><font size="4">To register call Frank Reed at </font></div><div align="center"><font size="4">435-882-2870\, ext 130</font></div>
LOCATION:
UID:e.125.486
SEQUENCE:3
DTSTAMP:20260424T114227Z
URL:https://business.tooelechamber.com/events/details/5th-annual-caregiver-conference-11-15-2008-486
END:VEVENT

END:VCALENDAR
