BEGIN:VCALENDAR
VERSION:2.0
PRODID:-//ChamberMaster//Event Calendar 2.0//EN
METHOD:PUBLISH
X-PUBLISHED-TTL:P3D
REFRESH-INTERVAL:P3D
CALSCALE:GREGORIAN
BEGIN:VEVENT
DTSTART:20100806T140000Z
DTEND:20100806T180000Z
X-MICROSOFT-CDO-ALLDAYEVENT:FALSE
SUMMARY:5th Annual High School Sports Medicine Golf Classic
DESCRIPTION:5th Annual High School Sports Medicine Golf Classic Friday\, August 6\, 2010 @ 8amTooele's Oquirrh Hills Golf Course 4 Man Scramble 100% of proceeds will go to the athletic departments of Tooele\, Grantsville\, and Stansbury High SchoolsBecome a tournament or hole sponsor Sponsor a team Donate prizes for the golfers Sponsors will be included in the tournament program and throughout the golf course on the day of the tournament.The local athletes greatly appreciate your generous support!For more information contact:Mountainland Physical Therapy 2055 North Main\, Tooele (435)435-3737 Fax: (435)843-8917
X-ALT-DESC;FMTTYPE=text/html:<div style="text-align: center"><span style="font-size: medium">5th Annual High School Sports Medicine Golf Classic </span></div><div style="text-align: center"><span style="font-size: medium">Friday\, August 6\, 2010 @ 8am</span></div><div style="text-align: center"><span style="font-size: medium">Tooele's Oquirrh Hills Golf Course </span></div><div style="text-align: center"><span style="font-size: medium">4 Man Scramble </span></div><div style="text-align: center"><span style="font-size: medium">100% of proceeds will go to the athletic departments of Tooele\, Grantsville\, and Stansbury High Schools</span></div><div style="text-align: center"><span style="font-size: medium">Become a tournament or hole sponsor </span></div><div style="text-align: center"><span style="font-size: medium">Sponsor a team </span></div><div style="text-align: center"><span style="font-size: medium">Donate prizes for the golfers </span></div><div style="text-align: center"><span style="font-size: medium">Sponsors will be included in the tournament program and throughout the golf course on the day of the tournament.</span></div><div style="text-align: center"><span style="font-size: medium">The local athletes greatly appreciate your generous support!</span></div><div style="text-align: center"><span style="font-size: medium">For more information contact:</span></div><div style="text-align: center"><span style="font-size: medium">Mountainland Physical Therapy </span></div><div style="text-align: center"><span style="font-size: medium">2055 North Main\, Tooele </span></div><div style="text-align: center"><span style="font-size: medium">(435)435-3737 Fax: (435)843-8917</span></div>
LOCATION:
UID:e.125.3192
SEQUENCE:3
DTSTAMP:20260423T014014Z
URL:https://business.tooelechamber.com/events/details/5th-annual-high-school-sports-medicine-golf-classic-08-06-2010-3192
END:VEVENT

END:VCALENDAR
