BEGIN:VCALENDAR
VERSION:2.0
PRODID:-//ChamberMaster//Event Calendar 2.0//EN
METHOD:PUBLISH
X-PUBLISHED-TTL:P3D
REFRESH-INTERVAL:P3D
CALSCALE:GREGORIAN
BEGIN:VEVENT
DTSTART:20091107T170000Z
DTEND:20091107T220000Z
X-MICROSOFT-CDO-ALLDAYEVENT:FALSE
SUMMARY:6th Annual Caregiver Conference
DESCRIPTION:6th Annual Caregiver Conferencefor Caregivers of Elderly Loved-ones Registration includes:ConferenceLunchExhibit MaterialsSocial Connections
X-ALT-DESC;FMTTYPE=text/html:<div>6th Annual Caregiver Conference</div><div>for Caregivers of Elderly Loved-ones</div><div>&nbsp\;</div><div>Registration includes:</div><div>Conference</div><div>Lunch</div><div>Exhibit Materials</div><div>Social Connections</div>
LOCATION:Tooele Senior Citizens Center59 East Vine StreetTooele
UID:e.125.2579
SEQUENCE:3
DTSTAMP:20260423T150728Z
URL:https://business.tooelechamber.com/events/details/6th-annual-caregiver-conference-11-07-2009-2579
END:VEVENT

END:VCALENDAR
