BEGIN:VCALENDAR
VERSION:2.0
PRODID:-//ChamberMaster//Event Calendar 2.0//EN
METHOD:PUBLISH
X-PUBLISHED-TTL:P3D
REFRESH-INTERVAL:P3D
CALSCALE:GREGORIAN
BEGIN:VEVENT
DTSTART:20101113T170000Z
DTEND:20101113T213000Z
X-MICROSOFT-CDO-ALLDAYEVENT:FALSE
SUMMARY:7th Annual Caregivers Conference
DESCRIPTION:7TH Annual Caregiver Conference   Tools for Success\n\n	For Caregivers of Elderly Loved-Ones\n\n	Saturday\, November 13th from 10am-2:30pm \n\n	Tooele Senior Citizens Center \n\n	59 East Vine Street\, Tooele \n\n	$10 Registration \n\n	Public Invited \n\n	For more information contact Frank at 843-4107\n\n	or email freed@co.tooele.ut.us
X-ALT-DESC;FMTTYPE=text/html:<p class="MsoNormal" style="line-height: normal\; margin: 0in 0in 0pt">\n	<b style="mso-bidi-font-weight: normal"><u><span style="font-size: 12pt\; mso-bidi-font-family: calibri\; mso-bidi-theme-font: minor-latin"><font color="#000000"><font face="Calibri">7<sup>TH </sup>Annual Caregiver Conference &ndash\; Tools for Success<o:p></o:p></font></font></span></u></b></p>\n<p class="MsoNormal" style="line-height: normal\; margin: 0in 0in 0pt">\n	<font color="#000000"><font face="Calibri"><span style="font-size: 12pt\; mso-bidi-font-family: calibri\; mso-bidi-theme-font: minor-latin\; mso-fareast-font-family: 'times new roman'">For Caregivers of Elderly Loved-Ones</span><span style="font-size: 12pt\; mso-bidi-font-family: calibri\; mso-bidi-theme-font: minor-latin"><o:p></o:p></span></font></font></p>\n<p class="MsoNormal" style="line-height: normal\; margin: 0in 0in 0pt">\n	<span style="font-size: 12pt\; mso-bidi-font-family: calibri\; mso-bidi-theme-font: minor-latin"><font color="#000000"><font face="Calibri">Saturday\, November 13<sup>th</sup> from 10am-2:30pm <o:p></o:p></font></font></span></p>\n<p class="MsoNormal" style="line-height: normal\; margin: 0in 0in 0pt">\n	<span style="font-size: 12pt\; mso-bidi-font-family: calibri\; mso-bidi-theme-font: minor-latin"><font color="#000000"><font face="Calibri">Tooele Senior Citizens Center <o:p></o:p></font></font></span></p>\n<p class="MsoNormal" style="line-height: normal\; margin: 0in 0in 0pt">\n	<span style="font-size: 12pt\; mso-bidi-font-family: calibri\; mso-bidi-theme-font: minor-latin"><font color="#000000"><font face="Calibri">59 East Vine Street\, Tooele <o:p></o:p></font></font></span></p>\n<p class="MsoNormal" style="line-height: normal\; margin: 0in 0in 0pt">\n	<span style="font-size: 12pt\; mso-bidi-font-family: calibri\; mso-bidi-theme-font: minor-latin"><font color="#000000"><font face="Calibri">$10 Registration <o:p></o:p></font></font></span></p>\n<p class="MsoNormal" style="line-height: normal\; margin: 0in 0in 0pt">\n	<span style="font-size: 12pt\; mso-bidi-font-family: calibri\; mso-bidi-theme-font: minor-latin"><font color="#000000"><font face="Calibri">Public Invited <o:p></o:p></font></font></span></p>\n<p class="MsoNormal" style="line-height: normal\; margin: 0in 0in 0pt">\n	<font color="#000000"><font face="Calibri"><span style="font-size: 12pt\; mso-bidi-font-family: calibri\; mso-bidi-theme-font: minor-latin">For more information contact</span><font size="3"> Frank at 843-4107</font></font></font></p>\n<p class="MsoNormal" style="line-height: normal\; margin: 0in 0in 0pt">\n	<font color="#000000" face="Calibri" size="3">or email </font><a href="mailto:freed@co.tooele.ut.us"><font color="#0000ff" face="Calibri" size="3">freed@co.tooele.ut.us</font></a><font color="#000000" face="Calibri" size="3"> </font></p>\n
LOCATION:
UID:e.125.3247
SEQUENCE:3
DTSTAMP:20260422T204421Z
URL:https://business.tooelechamber.com/events/details/7th-annual-caregivers-conference-11-13-2010-3247
END:VEVENT

END:VCALENDAR
