BEGIN:VCALENDAR
VERSION:2.0
PRODID:-//ChamberMaster//Event Calendar 2.0//EN
METHOD:PUBLISH
X-PUBLISHED-TTL:P3D
REFRESH-INTERVAL:P3D
CALSCALE:GREGORIAN
BEGIN:VEVENT
DTSTART;VALUE=DATE:20090911
DTEND;VALUE=DATE:20090912
TRANSP:TRANSPARENT
X-MICROSOFT-CDO-ALLDAYEVENT:TRUE
SUMMARY:AARP Safe Driving Class
DESCRIPTION:A new one day Safe Driving Class will be held Friday\,free lunch at Mountain West Medical Center. Cost is $14 per person\, AARP members $12. Call 843-3690 or 843-3691 to enroll prior to the day of the class. Certificate will be given at end of class.September 11th from 9:30 am to 2:30 pm with a
X-ALT-DESC;FMTTYPE=text/html:<div><font face="ComicSansMS" size="3"><font face="ComicSansMS" size="3"><p align="left">A new one day Safe Driving Class will be held Friday\,</p><p align="left">free lunch at Mountain West Medical Center. Cost is $14 per person\, AARP members $12. Call 843-</p><p>3690 or 843-3691 to enroll prior to the day of the class. Certificate will be given at end of class.</p></font></font><b><font face="ComicSansMS-Bold" size="3"><font face="ComicSansMS-Bold" size="3">September 11th </font></font><font face="ComicSansMS" size="3"><font face="ComicSansMS" size="3">from 9:30 am to 2:30 pm with a</font></font></b></div>
LOCATION:
UID:e.125.2546
SEQUENCE:3
DTSTAMP:20260423T181701Z
URL:https://business.tooelechamber.com/events/details/aarp-safe-driving-class-09-11-2009-2546
END:VEVENT

END:VCALENDAR
