BEGIN:VCALENDAR
VERSION:2.0
PRODID:-//ChamberMaster//Event Calendar 2.0//EN
METHOD:PUBLISH
X-PUBLISHED-TTL:P3D
REFRESH-INTERVAL:P3D
CALSCALE:GREGORIAN
BEGIN:VEVENT
DTSTART:20101104T233000Z
DTEND:20101105T030000Z
X-MICROSOFT-CDO-ALLDAYEVENT:FALSE
SUMMARY:Aggie Benefit Night
DESCRIPTION:The USU Alumni Association - Tooele County Chapter Presents:\n\nAggie Benefit night with\n\nKeynote Speaker: Dr. Stephen R. Covey\n\nAuthor\, "The Seven Habits of Highly Effective People"\n\nThursday\, November 4\, 2010\n\nLocation: Tooele Community Learning Center\n\n(211 South Tooele Blvd.\, Behind USU Tooele Regional Campus)\n\n\n\n5:30pm - Silent Auction Preview\n\n6:00pm - Dinner with Dr. Covey & Merit CItation Award\n\n8:00pm - Keynote Speech: "Leadership is a Choice. Not a Position!"\n\n                 Aggie Ice Cream\n\n\n\nProceeds from the event will go to the USU Scholarship Fund\n\nSeating is limited. Registar online beginning Monday\, Sept 20th at www.usu.edu/alumni/events\n\nFor more information contact: Jewel Allen at jallen@q.com or Suzanne Anderson at suzanne.anderson@usu.edu
X-ALT-DESC;FMTTYPE=text/html:The USU Alumni Association - Tooele County Chapter Presents:<br />\nAggie Benefit night with<br />\nKeynote Speaker: Dr. Stephen R. Covey<br />\nAuthor\, &quot\;The Seven Habits of Highly Effective People&quot\;<br />\nThursday\, November 4\, 2010<br />\nLocation: Tooele Community Learning Center<br />\n(211 South Tooele Blvd.\, Behind USU Tooele Regional Campus)<br />\n<br />\n5:30pm - Silent Auction Preview<br />\n6:00pm&nbsp\;- Dinner with Dr. Covey &amp\; Merit CItation Award<br />\n8:00pm - Keynote Speech: &quot\;Leadership is a Choice. Not a Position!&quot\;<br />\n&nbsp\;&nbsp\;&nbsp\;&nbsp\;&nbsp\;&nbsp\;&nbsp\;&nbsp\;&nbsp\;&nbsp\;&nbsp\;&nbsp\;&nbsp\;&nbsp\;&nbsp\;&nbsp\; Aggie Ice Cream<br />\n<br />\nProceeds from the event will go to the USU Scholarship Fund<br />\nSeating is limited. Registar online beginning Monday\, Sept 20th at <a href="http://www.usu.edu/alumni/events">www.usu.edu/alumni/events</a><br />\nFor more information contact: Jewel Allen at <a href="mailto:jallen@q.com">jallen@q.com</a> or Suzanne Anderson at <a href="mailto:suzanne.anderson@usu.edu">suzanne.anderson@usu.edu</a> 
LOCATION:
UID:e.125.3245
SEQUENCE:3
DTSTAMP:20260422T202914Z
URL:https://business.tooelechamber.com/events/details/aggie-benefit-night-11-04-2010-3245
END:VEVENT

END:VCALENDAR
