BEGIN:VCALENDAR
VERSION:2.0
PRODID:-//ChamberMaster//Event Calendar 2.0//EN
METHOD:PUBLISH
X-PUBLISHED-TTL:P3D
REFRESH-INTERVAL:P3D
CALSCALE:GREGORIAN
BEGIN:VEVENT
DTSTART;VALUE=DATE:20080905
DTEND;VALUE=DATE:20080908
TRANSP:TRANSPARENT
X-MICROSOFT-CDO-ALLDAYEVENT:TRUE
SUMMARY:AMA Pro-AM Supermoto
DESCRIPTION:
X-ALT-DESC;FMTTYPE=text/html:
LOCATION:Miller Motorsports Park
UID:e.125.461
SEQUENCE:3
DTSTAMP:20260424T141057Z
URL:https://business.tooelechamber.com/events/details/ama-pro-am-supermoto-09-05-2008-461
END:VEVENT

END:VCALENDAR
