BEGIN:VCALENDAR
VERSION:2.0
PRODID:-//ChamberMaster//Event Calendar 2.0//EN
METHOD:PUBLISH
X-PUBLISHED-TTL:P3D
REFRESH-INTERVAL:P3D
CALSCALE:GREGORIAN
BEGIN:VEVENT
DTSTART:20130529T140000Z
DTEND:20130529T150000Z
X-MICROSOFT-CDO-ALLDAYEVENT:FALSE
SUMMARY:Ambassador Meeting
DESCRIPTION:Ambassador Meeting
X-ALT-DESC;FMTTYPE=text/html:<p>\n	Ambassador Meeting</p>\n
LOCATION:
UID:e.125.4981
SEQUENCE:3
DTSTAMP:20260420T181757Z
URL:https://business.tooelechamber.com/events/details/ambassador-meeting-05-29-2013-4981
END:VEVENT

END:VCALENDAR
