BEGIN:VCALENDAR
VERSION:2.0
PRODID:-//ChamberMaster//Event Calendar 2.0//EN
METHOD:PUBLISH
X-PUBLISHED-TTL:P3D
REFRESH-INTERVAL:P3D
CALSCALE:GREGORIAN
BEGIN:VEVENT
DTSTART;VALUE=DATE:20081210
DTEND;VALUE=DATE:20081211
TRANSP:TRANSPARENT
X-MICROSOFT-CDO-ALLDAYEVENT:TRUE
SUMMARY:Annual Chamber Christmas Open House
DESCRIPTION:Annual Chamber Christmas Open House
X-ALT-DESC;FMTTYPE=text/html:<div>Annual Chamber Christmas Open House</div>
LOCATION:
UID:e.125.219
SEQUENCE:3
DTSTAMP:20260424T091058Z
URL:https://business.tooelechamber.com/events/details/annual-chamber-christmas-open-house-12-10-2008-219
END:VEVENT

END:VCALENDAR
