BEGIN:VCALENDAR
VERSION:2.0
PRODID:-//ChamberMaster//Event Calendar 2.0//EN
METHOD:PUBLISH
X-PUBLISHED-TTL:P3D
REFRESH-INTERVAL:P3D
CALSCALE:GREGORIAN
BEGIN:VEVENT
DTSTART:20110130T013000Z
DTEND:20110130T040000Z
X-MICROSOFT-CDO-ALLDAYEVENT:FALSE
SUMMARY:Annual Chamber Installation Banquet
DESCRIPTION:Tooele County Chamber of Commerce\n\n	Annual Installation Banquet\n\n	Saturday\, January 29\, 2011\n\n	Past Presidents Social at 6:30\n\n	Dinner and Program at 7:00pm\n\n	Deseret Peak Convention Center\n\n	2930 West Hwy 112\, Tooele\n\n	Cost: $30 per person\, or $220 for table of 8\n\n	Please RSVP by Thursday\, January 27th by 5pm
X-ALT-DESC;FMTTYPE=text/html:<p style="text-align: center">\n	<span style="font-size: 20px"><u><strong>Tooele County Chamber of Commerce<br />\n	Annual Installation Banquet</strong></u><br />\n	Saturday\, January 29\, 2011<br />\n	Past Presidents Social at 6:30<br />\n	Dinner and Program at 7:00pm<br />\n	Deseret Peak Convention Center<br />\n	2930 West Hwy 112\, Tooele<br />\n	Cost: $30 per person\, or $220 for table of 8<br />\n	Please RSVP by Thursday\, January 27th by 5pm </span></p>\n
LOCATION:
UID:e.125.498
SEQUENCE:3
DTSTAMP:20260422T170855Z
URL:https://business.tooelechamber.com/events/details/annual-chamber-installation-banquet-01-29-2011-498
END:VEVENT

END:VCALENDAR
