BEGIN:VCALENDAR
VERSION:2.0
PRODID:-//ChamberMaster//Event Calendar 2.0//EN
METHOD:PUBLISH
X-PUBLISHED-TTL:P3D
REFRESH-INTERVAL:P3D
CALSCALE:GREGORIAN
BEGIN:VEVENT
DTSTART:20101208T180000Z
DTEND:20101208T210000Z
X-MICROSOFT-CDO-ALLDAYEVENT:FALSE
SUMMARY:Annual Christmas Open House
DESCRIPTION:Tooele County Chamber of Commerce\n\n	Annual Christmas Open House\n\n	Wednesday\, December 8\, 2010 from 11am-2pm\n\n	Deseret Peak Convention Center\n\n	2930 West Hwy 112\, Tooele\n\n	Luncheon will be provided\n\n	No RSVP required & No CHARGE for this event!\n\n	Please\, if you want to\; bring a promotional item from your business valued at $25 or higher to be given away as a prize!
X-ALT-DESC;FMTTYPE=text/html:<p class="MsoNormal" style="text-align: center\; margin: 0in 0in 0pt">\n	<b style="mso-bidi-font-weight: normal"><u><span style="font-family: 'californian fb'\, 'serif'\; font-size: 14pt\; mso-bidi-font-family: arial"><font color="#000000">Tooele County Chamber of Commerce<br />\n	Annual Christmas Open House</font></span></u></b><br />\n	<span style="font-family: 'californian fb'\, 'serif'\; font-size: 14pt\; mso-bidi-font-family: arial"><font color="#000000">Wednesday\, December 8\, 2010 from 11am-2pm<br />\n	Deseret Peak Convention Center<br />\n	2930 West Hwy 112\, Tooele<br />\n	Luncheon will be provided<br />\n	No RSVP required &amp\; No CHARGE for this event!<br />\n	Please\, if you want to\;&nbsp\;bring a promotional item from your business valued at $25 or higher to be given away as a prize!&nbsp\;<span _fck_bookmark="1" style="display: none">&nbsp\;</span></font></span><span style="font-family: 'arial narrow'\, 'sans-serif'\; color: black\; font-size: 14pt\; mso-bidi-font-family: arial\; mso-fareast-font-family: 'times new roman'"><o:p></o:p></span></p>\n
LOCATION:
UID:e.125.3302
SEQUENCE:3
DTSTAMP:20260422T185141Z
URL:https://business.tooelechamber.com/events/details/annual-christmas-open-house-12-08-2010-3302
END:VEVENT

END:VCALENDAR
