BEGIN:VCALENDAR
VERSION:2.0
PRODID:-//ChamberMaster//Event Calendar 2.0//EN
METHOD:PUBLISH
X-PUBLISHED-TTL:P3D
REFRESH-INTERVAL:P3D
CALSCALE:GREGORIAN
BEGIN:VEVENT
DTSTART;VALUE=DATE:20080322
DTEND;VALUE=DATE:20080323
TRANSP:TRANSPARENT
X-MICROSOFT-CDO-ALLDAYEVENT:TRUE
SUMMARY:Annual Easter Egg Hunt
DESCRIPTION:Annual Easter Egg Hunt
X-ALT-DESC;FMTTYPE=text/html:<p>Annual Easter Egg Hunt</p>
LOCATION:Deseret Peak ComplexTooele County
UID:e.125.214
SEQUENCE:3
DTSTAMP:20260424T233445Z
URL:https://business.tooelechamber.com/events/details/annual-easter-egg-hunt-03-22-2008-214
END:VEVENT

END:VCALENDAR
