BEGIN:VCALENDAR
VERSION:2.0
PRODID:-//ChamberMaster//Event Calendar 2.0//EN
METHOD:PUBLISH
X-PUBLISHED-TTL:P3D
REFRESH-INTERVAL:P3D
CALSCALE:GREGORIAN
BEGIN:VEVENT
DTSTART;VALUE=DATE:20111203
DTEND;VALUE=DATE:20111204
TRANSP:TRANSPARENT
X-MICROSOFT-CDO-ALLDAYEVENT:TRUE
SUMMARY:Annual Santa Parade
DESCRIPTION:Tooele County Chamber of Commerce\n\n	Annual Santa Parade and Visit with Santa \n\n	Saturday\, December 3\, 2011\n\n	Contact: 435-882-0690
X-ALT-DESC;FMTTYPE=text/html:<p style="text-align: center">\n	<span style="font-size: 20px">Tooele County Chamber of Commerce<br />\n	Annual Santa Parade and Visit with Santa&nbsp\;<br />\n	Saturday\, December 3\, 2011<br />\n	Contact: 435-882-0690<br />\n	&nbsp\;</span></p>\n
LOCATION:The parade will begin at Vine Street & 2nd West (City Park-Pratt Aquatic Center) and will continue North to Utah Avenue\, then East to Main Street\, then South on Main to 100 South\, then West to 50 West and end at Veterans Memorial Park.
UID:e.125.3579
SEQUENCE:3
DTSTAMP:20260422T011622Z
URL:https://business.tooelechamber.com/events/details/annual-santa-parade-12-03-2011-3579
END:VEVENT

END:VCALENDAR
