BEGIN:VCALENDAR
VERSION:2.0
PRODID:-//ChamberMaster//Event Calendar 2.0//EN
METHOD:PUBLISH
X-PUBLISHED-TTL:P3D
REFRESH-INTERVAL:P3D
CALSCALE:GREGORIAN
BEGIN:VEVENT
DTSTART:20110212T010000Z
DTEND:20110212T030000Z
X-MICROSOFT-CDO-ALLDAYEVENT:FALSE
SUMMARY:Annual Valentine's Event
DESCRIPTION:Annual Valentine's Event\n\n	Join us for a prime rib dinner\, guest speaker Brad Wilcox\, dancing and marriage awards. The annual Valentine's Event will be held on Friday\, February 11th at 6 p.m at Eagles Nest. Cost is $40 per couple or $20 per couple for income eligible (WIC guidelines). Please stop by USU Extension at 151 N. Main (county health building) to prepay and reserve your spot by Monday\, February 7th. To check for income eligibility or if you have questions\,  call Darlene at 435-277-2406.
X-ALT-DESC;FMTTYPE=text/html:<p class="MsoNormal" style="margin: 0in 0in 0pt">\n	<b><font size="3"><font color="#000000">Annual Valentine&rsquo\;s Event<o:p></o:p></font></font></b></p>\n<p class="MsoNormal" style="margin: 0in 0in 0pt">\n	<font color="#000000"><font size="3">Join us for a prime rib dinner\, guest speaker Brad Wilcox\, dancing and marriage awards. The annual Valentine&rsquo\;s Event will be held on Friday\, February 11</font><sup><font size="2">th</font></sup><font size="3"> at 6 p.m at Eagles Nest. Cost is $40 per couple or $20 per couple for income eligible (WIC guidelines). Please stop by USU Extension at 151 N. Main (county health building) to prepay and reserve your spot by Monday\, February 7th. To check for income eligibility or if you have questions\,&nbsp\; call Darlene at 435-277-2406. &nbsp\;<span _fck_bookmark="1" style="display: none">&nbsp\;</span></font></font></p>\n
LOCATION:
UID:e.125.3612
SEQUENCE:3
DTSTAMP:20260422T154914Z
URL:https://business.tooelechamber.com/events/details/annual-valentine-s-event-02-11-2011-3612
END:VEVENT

END:VCALENDAR
