BEGIN:VCALENDAR
VERSION:2.0
PRODID:-//ChamberMaster//Event Calendar 2.0//EN
METHOD:PUBLISH
X-PUBLISHED-TTL:P3D
REFRESH-INTERVAL:P3D
CALSCALE:GREGORIAN
BEGIN:VEVENT
DTSTART:20090821T140000Z
DTEND:20090821T230000Z
X-MICROSOFT-CDO-ALLDAYEVENT:FALSE
SUMMARY:ATI Rowley Opeartions Job Fair
DESCRIPTION:Are you ready for a new and exciting career?ATI Rowley Operations is conducting a job fair at the Holiday Inn Express   Tooele.Date: Friday\, August 21Time: 8 a.m.   5 p.m.Location: Holiday Inn Express   Tooele1531 North Main St.\, 84074 Come learn about exciting new opportunities\, benefits\, and timeframes for hiring of the following positions:\nMaintenance Technician   Operates equipment and performs tasks that support operations of the various producing units. Works with material and equipment to handle\, transport and process product and materials. Directs the fl ow of material to and from producing units. Operates various types of equipment associated with producing materials. Inspects and performs maintenance on all associated equipment. 4 years relevant experience in a production environment. Electrical and Instrumentation Tech. - Responsible for supporting plant operations by planning and supervising all operational activities for operation activities performed outside of the Control Room to ensure safe\, consistent\, and effi cient plant operations. Assists Operations Manager in planning\, organizing\, and coordinating operational activities. Ensures compliance with established procedures for plant operations and maintenance activities. 4 yr experience as a Journeyman Instrument Technician with emphasis in instrument repair in a heavy industrial environment. Production Technician / Welder - Operates equipment and performs tasks that support operations of the various producing units. Works with material and equipment to handle\, transport and process product and materials. Directs the fl ow of material to and from producing units. Operates various types of equipment associated with producing materials. Inspects and performs maintenance on all associated equipment. Advanced positions include operating specialized and sensitive equipment\, performing intricate procedures and performing supervisory or control room duties as required. 2 years relevant experience in a production environment.\nDepartment Coordinator (Administrative Assistant) - Supplies administrative support services to an executive\, professional group\, or organizational department. Assembles and analyzes fairly complex information or data. Describes results in a written report. Uses independent judgment in completing activities and operates under general supervision. Oversees administrative procedures and processes for assigned area. May help with budget preparation and control. May act as an administrative liaison with internal and/or external sources. 4 years relavant experience Health Safety Specialist - This position is responsible for maintaining records and working closely with outside medical services and professionals. Will administer testing for the facilities personnel in areas of fi t and hearing testing. Will maintain the tracking and training records for facility personnel. Will act as back-up as EST/EMT   B to ensure Waste Water Treatment compliance as well as responding to medical emergencies. Associate of Science Degree or equivalent. Must have EMT-B certifi cation or be willing to obtain within 6 months of hire.
X-ALT-DESC;FMTTYPE=text/html:<div><font size="5">&nbsp\;</font><p style="text-align: center"><strong>Are you ready for a new and exciting career?</strong></p><p style="text-align: center"><span style="font-size: medium"><strong><span><strong>ATI Rowley Operations is conducting a job fair at the Holiday Inn Express &ndash\; Tooele.</strong></span></strong></span></p><strong><b><font face="Helvetica-Bold*1"><p style="text-align: center"><span style="color: #ff0000"><span style="font-size: small">Date: Friday\, August 21</span></span></p><p style="text-align: center"><span style="color: #ff0000"><span style="font-size: small">Time: 8 a.m. &ndash\; 5 p.m.</span></span></p><p style="text-align: center"><span style="color: #ff0000"><span style="font-size: small">Location: Holiday Inn Express &ndash\; Tooele</span></span></p><p style="text-align: center"><span style="color: #ff0000"><span style="font-size: small">1531 North Main St.\, 84074</span></span></p></font></b></strong><font face="TimesNewRomanPS-Bold*1"><p style="text-align: center"><span style="font-size: small"><strong>&nbsp\;Come learn </strong></span><span style="font-size: small"><strong>about exciting new opportunities\, benefits\, and timeframes for hiring of the following positions:</strong></span></p><p style="text-align: center"><span style="font-size: small"><strong><br />Maintenance Technician &ndash\; </strong>Operates equipment and performs tasks that support operations of the various producing units. Works with material and equipment to handle\, transport and process product and materials. Directs the fl ow of material to and from producing units. Operates various types of equipment associated with producing materials. Inspects and performs maintenance on all associated equipment. 4 years relevant experience in a production environment. </span></p><p style="text-align: center"><strong><span style="font-size: small">Electrical and Instrumentation Tech.</span></strong><span style="font-size: small"> - Responsible for supporting plant operations by planning and supervising all operational activities for operation activities performed outside of the Control Room to ensure safe\, consistent\, and effi cient plant operations. Assists Operations Manager in planning\, organizing\, and coordinating operational activities. Ensures compliance with established procedures for plant operations and maintenance activities. 4 yr experience as a Journeyman Instrument Technician with emphasis in instrument repair in a heavy industrial environment. </span></p><p style="text-align: center"><strong><span style="font-size: small">Production Technician / Welder</span></strong><span style="font-size: small"> - Operates equipment and performs tasks that support operations of the various producing units. Works with material and equipment to handle\, transport and process product and materials. Directs the fl ow of material to and from producing units. Operates various types of equipment associated with producing materials. Inspects and performs maintenance on all associated equipment. Advanced positions include operating specialized and sensitive equipment\, performing intricate procedures and performing supervisory or control room duties as required. 2 years relevant experience in a production environment.</span></p><p style="text-align: center"><span style="font-size: small"><br /><strong>Department Coordinator (Administrative Assistant)</strong> - Supplies administrative support services to an executive\, professional group\, or organizational department. Assembles and analyzes fairly complex information or data. Describes results in a written report. Uses independent judgment in completing activities and operates under general supervision. Oversees administrative procedures and processes for assigned area. May help with budget preparation and control. May act as an administrative liaison with internal and/or external sources. 4 years relavant experience</span></p><p style="text-align: center"><span style="font-size: small">&nbsp\;<strong>Health Safety Specialist </strong>- This position is responsible for maintaining records and working closely with outside medical services and professionals. Will administer testing for the facilities personnel in areas of fi t and hearing testing. Will maintain the tracking and training records for facility personnel. Will act as back-up as EST/EMT &ndash\; B to ensure Waste Water Treatment compliance as well as responding to medical emergencies. Associate of Science Degree or equivalent. Must have EMT-B certifi cation or be willing to obtain within 6 months of hire.</span></p></font></div>
LOCATION:Location: Holiday Inn Express Tooele1531 North Main St.\, 84074
UID:e.125.2566
SEQUENCE:3
DTSTAMP:20260423T200315Z
URL:https://business.tooelechamber.com/events/details/ati-rowley-opeartions-job-fair-08-21-2009-2566
END:VEVENT

END:VCALENDAR
