BEGIN:VCALENDAR
VERSION:2.0
PRODID:-//ChamberMaster//Event Calendar 2.0//EN
METHOD:PUBLISH
X-PUBLISHED-TTL:P3D
REFRESH-INTERVAL:P3D
CALSCALE:GREGORIAN
BEGIN:VEVENT
DTSTART:20090325T180000Z
DTEND:20090327T180000Z
X-MICROSOFT-CDO-ALLDAYEVENT:FALSE
SUMMARY:Auditions for My Fair Lady
DESCRIPTION:Auditions for My Fair LadyMarch 25\, 6-10 pmMarch 26\, 8:30-10 pmMarch 27\, 6-7 pm Dow James Building400 North 350 West\, Tooele For more information visitwww.laforgeencore.com
X-ALT-DESC;FMTTYPE=text/html:<div align="center"><font size="4">Auditions for <em>My Fair Lady</em></font></div><div align="center"><font size="4">March 25\, 6-10 pm</font></div><div align="center"><font size="4">March 26\, 8:30-10 pm</font></div><div align="center"><font size="4">March 27\, 6-7 pm</font></div><div align="center"><font size="4">&nbsp\;</font></div><div align="center"><font size="4">Dow James Building</font></div><div align="center"><font size="4">400 North 350 West\, Tooele</font></div><div align="center"><font size="4">&nbsp\;</font></div><div align="center"><font size="4">For more information visit</font></div><div align="center"><font size="4">www.laforgeencore.com</font></div>
LOCATION:
UID:e.125.560
SEQUENCE:3
DTSTAMP:20260424T041448Z
URL:https://business.tooelechamber.com/events/details/auditions-for-my-fair-lady-03-25-2009-560
END:VEVENT

END:VCALENDAR
