BEGIN:VCALENDAR
VERSION:2.0
PRODID:-//ChamberMaster//Event Calendar 2.0//EN
METHOD:PUBLISH
X-PUBLISHED-TTL:P3D
REFRESH-INTERVAL:P3D
CALSCALE:GREGORIAN
BEGIN:VEVENT
DTSTART;VALUE=DATE:20120809
DTEND;VALUE=DATE:20120812
TRANSP:TRANSPARENT
X-MICROSOFT-CDO-ALLDAYEVENT:TRUE
SUMMARY:Back to School
DESCRIPTION:AUGUST 9-11\n\n	BACK TO SCHOOL COMMUNITY CLOSET\n\n	AT NORHTLAKE ELEMENTARY
X-ALT-DESC;FMTTYPE=text/html:<p>\n	<strong><span style="font-size: 16px">AUGUST 9-11<br />\n	BACK TO SCHOOL COMMUNITY CLOSET<br />\n	AT NORHTLAKE ELEMENTARY</span></strong></p>\n
LOCATION:
UID:e.125.4875
SEQUENCE:3
DTSTAMP:20260421T103114Z
URL:https://business.tooelechamber.com/events/details/back-to-school-08-09-2012-4875
END:VEVENT

END:VCALENDAR
