BEGIN:VCALENDAR
VERSION:2.0
PRODID:-//ChamberMaster//Event Calendar 2.0//EN
METHOD:PUBLISH
X-PUBLISHED-TTL:P3D
REFRESH-INTERVAL:P3D
CALSCALE:GREGORIAN
BEGIN:VEVENT
DTSTART:20130926T233000Z
DTEND:20130927T010000Z
X-MICROSOFT-CDO-ALLDAYEVENT:FALSE
SUMMARY:BAH- Comfort Inn & Flying J
DESCRIPTION:Thursday\, September 26th\, 2013\n\n	@ 5:30 pm-7:00 pm\n\n	Hosted by: Comfort Inn & Suites and Flying J \n\n	@ 1605 East Saddleback Blvd.\n\n	NO Charge for this event! \n\n	GREAT Networking Opportunity!\n\n	Bring business card to enter to win!\n\n	Click here to edit...
X-ALT-DESC;FMTTYPE=text/html:<div style="color: gray">\n	<span style="language: en-US"><span style="font-size: 40pt"><span style="color: black"><span style="font-family: arial"><span style="font-size: 14px">Thursday\, September 26th</span></span></span></span></span><span style="font-size: 14px"><span style="language: en-US"><span style="color: black"><span style="font-family: arial">\, 2013<br />\n	@ 5:30 pm-7:00 pm<br />\n	Hosted by:&nbsp\;Comfort Inn &amp\; Suites and Flying J</span></span></span><span style="font-weight: bold\; language: en-US"><span style="color: black"><span style="font-family: arial">&nbsp\;</span></span></span><br />\n	<span style="language: en-US"><span style="color: black"><span style="font-family: arial">@ 1605 East Saddleback Blvd.</span></span></span><br />\n	<span style="language: en-US"><span style="color: black"><span style="font-family: arial">NO Charge for this event! </span></span></span><br />\n	<span style="language: en-US"><span style="color: black"><span style="font-family: arial">GREAT Networking Opportunity</span></span></span><span style="font-weight: bold\; language: en-US"><span style="color: black"><span style="font-family: arial">!</span></span></span><br />\n	<span style="font-weight: bold\; language: en-US"><span style="color: black"><span style="font-family: arial">Bring business card to enter to win!</span></span></span><br />\n	Click here to edit...</span></div>\n
LOCATION:
UID:e.125.5007
SEQUENCE:3
DTSTAMP:20260420T114644Z
URL:https://business.tooelechamber.com/events/details/bah-comfort-inn-flying-j-09-26-2013-5007
END:VEVENT

END:VCALENDAR
