BEGIN:VCALENDAR
VERSION:2.0
PRODID:-//ChamberMaster//Event Calendar 2.0//EN
METHOD:PUBLISH
X-PUBLISHED-TTL:P3D
REFRESH-INTERVAL:P3D
CALSCALE:GREGORIAN
BEGIN:VEVENT
DTSTART:20130829T233000Z
DTEND:20130830T010000Z
X-MICROSOFT-CDO-ALLDAYEVENT:FALSE
SUMMARY:BAH-TATC
DESCRIPTION:Thursday\, Aug 29th\, 2013\n\n	@ 5:30 pm-7:00 pm\n\n	Hosted by: TATC \n\n	@ 88 south Tooele Blvd\n\n	In the Multi Purpose room.\n\n	NO Charge for this event! \n\n	GREAT Networking Opportunity!\n\n	Bring business card to enter to win!\n\n	Click here to edit...
X-ALT-DESC;FMTTYPE=text/html:<div style="color: gray">\n	&nbsp\;<span style="language: en-US"><span style="font-size: 40pt"><span style="color: black"><span style="font-family: arial">Thursday\, Aug </span></span></span></span><span style="language: en-US"><span style="font-size: 40pt"><span style="color: black"><span style="font-family: arial">29</span></span></span></span><span style="vertical-align: super\; language: en-US"><span style="font-size: 40pt"><span style="color: black"><span style="font-family: arial">th</span></span></span></span><span style="language: en-US"><span style="font-size: 40pt"><span style="color: black"><span style="font-family: arial">\, 2013<br />\n	@ 5:30 pm-7:00 pm<br />\n	Hosted by: </span></span></span></span><span style="font-weight: bold\; language: en-US"><span style="font-size: 40pt"><span style="color: black"><span style="font-family: arial">TATC </span></span></span></span><br />\n	<span style="language: en-US"><span style="font-size: 40pt"><span style="color: black"><span style="font-family: arial">@ 88 south Tooele Blvd</span></span></span></span><br />\n	<span style="language: en-US"><span style="font-size: 40pt"><span style="color: black"><span style="font-family: arial">In the Multi Purpose room.</span></span></span></span><br />\n	<span style="language: en-US"><span style="font-size: 32pt"><span style="color: black"><span style="font-family: arial">NO Charge for this event! </span></span></span></span><br />\n	<span style="language: en-US"><span style="font-size: 32pt"><span style="color: black"><span style="font-family: arial">GREAT Networking Opportunity</span></span></span></span><span style="font-weight: bold\; language: en-US"><span style="font-size: 32pt"><span style="color: black"><span style="font-family: arial">!</span></span></span></span><br />\n	<span style="font-weight: bold\; language: en-US"><span style="font-size: 32pt"><span style="color: black"><span style="font-family: arial">Bring business card to enter to win!</span></span></span></span><br />\n	Click here to edit...</div>\n
LOCATION:
UID:e.125.5003
SEQUENCE:3
DTSTAMP:20260420T132059Z
URL:https://business.tooelechamber.com/events/details/bah-tatc-08-29-2013-5003
END:VEVENT

END:VCALENDAR
