BEGIN:VCALENDAR
VERSION:2.0
PRODID:-//ChamberMaster//Event Calendar 2.0//EN
METHOD:PUBLISH
X-PUBLISHED-TTL:P3D
REFRESH-INTERVAL:P3D
CALSCALE:GREGORIAN
BEGIN:VEVENT
DTSTART;VALUE=DATE:20100522
DTEND;VALUE=DATE:20100523
TRANSP:TRANSPARENT
X-MICROSOFT-CDO-ALLDAYEVENT:TRUE
SUMMARY:Banquet for New Hope House
DESCRIPTION:A banquet for the New Hope House. The theme is Seeing Behind the Mask. 7:00 pm at Sostanza. Cost is $45.00 per person  reservations Call 801-455-4053.   Any questions please contact Bill Upton @ 882-2314 or buu@xmission.com
X-ALT-DESC;FMTTYPE=text/html:<div style="text-align: center"><span style="font-size: medium"><strong>A banquet for the New Hope House. </strong></span></div><div style="text-align: center"><span style="font-size: medium"><strong>The theme is Seeing Behind the Mask. </strong></span></div><div style="text-align: center"><span style="font-size: large"><span style="font-family: &quot\;Verdana&quot\;\,&quot\;sans-serif&quot\;\; mso-fareast-font-family: 'Times New Roman'\; mso-bidi-font-family: 'Times New Roman'\; mso-ansi-language: EN-US\; mso-fareast-language: EN-US\; mso-bidi-language: AR-SA">7:00 pm at Sostanza. </span></span></div><div style="text-align: center"><span style="font-size: large"><span style="font-family: &quot\;Verdana&quot\;\,&quot\;sans-serif&quot\;\; mso-fareast-font-family: 'Times New Roman'\; mso-bidi-font-family: 'Times New Roman'\; mso-ansi-language: EN-US\; mso-fareast-language: EN-US\; mso-bidi-language: AR-SA">Cost is $45.00 per person </span></span></div><div style="text-align: center"><span style="font-size: large"><span style="font-family: &quot\;Verdana&quot\;\,&quot\;sans-serif&quot\;\; mso-fareast-font-family: 'Times New Roman'\; mso-bidi-font-family: 'Times New Roman'\; mso-ansi-language: EN-US\; mso-fareast-language: EN-US\; mso-bidi-language: AR-SA"> reservations Call&nbsp\;801-455-4053.&nbsp\;&nbsp\;</span></span><span style="font-size: medium"><strong> </strong></span></div><div style="text-align: center"><span style="font-size: medium"><strong>Any questions please contact Bill Upton @ 882-2314 or </strong></span><a href="mailto:buu@xmission.com"><span style="font-size: medium"><strong>buu@xmission.com</strong></span></a></div>
LOCATION:
UID:e.125.3113
SEQUENCE:3
DTSTAMP:20260423T063102Z
URL:https://business.tooelechamber.com/events/details/banquet-for-new-hope-house-05-22-2010-3113
END:VEVENT

END:VCALENDAR
