BEGIN:VCALENDAR
VERSION:2.0
PRODID:-//ChamberMaster//Event Calendar 2.0//EN
METHOD:PUBLISH
X-PUBLISHED-TTL:P3D
REFRESH-INTERVAL:P3D
CALSCALE:GREGORIAN
BEGIN:VEVENT
DTSTART:20110518T180000Z
DTEND:20110518T190000Z
X-MICROSOFT-CDO-ALLDAYEVENT:FALSE
SUMMARY:Basic First Aid Kits
DESCRIPTION:Mini-Lesson\n\n	Lunch N Learn Series\n\n	Presented by: Tooele Applied Technology College\n\n	66 West Vine Street\, Tooele\n\n	Free to the public\, includes pizza lunch!\n\n	Limited seating\, RSVP's accepted for accurate lunch count\n\n	 Basic First Aid Kits with Suzette Rydalch\n\n	Learn what items you should have in your home\, car\, ATV\, or boat
X-ALT-DESC;FMTTYPE=text/html:<p style="text-align: center">\n	<span style="font-size: 18px">Mini-Lesson<br />\n	Lunch N Learn Series<br />\n	Presented by: Tooele Applied Technology College<br />\n	66 West Vine Street\, Tooele<br />\n	Free to the public\, includes pizza lunch!<br />\n	Limited seating\, RSVP&#39\;s accepted for accurate lunch count<br />\n	<span _fck_bookmark="1" style="display: none">&nbsp\;</span>Basic First Aid Kits with Suzette Rydalch<br />\n	Learn what items you should have in your home\, car\, ATV\, or boat </span></p>\n
LOCATION:
UID:e.125.3587
SEQUENCE:3
DTSTAMP:20260422T104051Z
URL:https://business.tooelechamber.com/events/details/basic-first-aid-kits-05-18-2011-3587
END:VEVENT

END:VCALENDAR
