BEGIN:VCALENDAR
VERSION:2.0
PRODID:-//ChamberMaster//Event Calendar 2.0//EN
METHOD:PUBLISH
X-PUBLISHED-TTL:P3D
REFRESH-INTERVAL:P3D
CALSCALE:GREGORIAN
BEGIN:VEVENT
DTSTART:20130126T170000Z
DTEND:20130126T220000Z
X-MICROSOFT-CDO-ALLDAYEVENT:FALSE
SUMMARY:Benefit for Manny - Food\, Prizes\, Fun!
DESCRIPTION:Benefit for Manny  - Critically injured 12-12-12 in an explosion.\n\n\n\nJoin us for food\, fun\, and a chance to win great prizes!\n\nSee the fire trucks up close and personal.\n\n\n\nRaffle Tickets Available - Drawing for TONS of prizes donated by many individuals and businesses.\n\n\n\nMeals available $5 per plate or $15 for a family of four - Fresh barbecued burgers\, hot dogs\, salads\, chips\, and beverages.\n\n\n\nRaffle Tickets available for less than $3.60 each - $5 depending on quantity purchased at one time.\n\n\n\nHosted by family and friends of Manny\, not a company or employer hosted event.   All proceeds go to the Manuel Sepulveda family.  \n\n\n\nFor tickets and more information contact Lori (435) 830-3146 or Linda (801) 201-6164.
X-ALT-DESC;FMTTYPE=text/html:Benefit for Manny&nbsp\; - Critically injured 12-12-12 in an explosion.<br />\n<br />\nJoin us for food\, fun\, and a chance to win great prizes!<br />\nSee the fire trucks up close and personal.<br />\n<br />\nRaffle Tickets Available - Drawing for TONS of prizes donated by many individuals and businesses.<br />\n<br />\nMeals available $5 per plate or $15 for a family of four - Fresh barbecued burgers\, hot dogs\, salads\, chips\, and beverages.<br />\n<br />\nRaffle Tickets available for less than $3.60 each - $5 depending on quantity purchased at one time.<br />\n<br />\nHosted by family and friends of Manny\, not a company or employer hosted event.&nbsp\;&nbsp\; All proceeds go to the Manuel Sepulveda family.&nbsp\;&nbsp\;<br />\n<br />\nFor tickets and more information contact Lori (435) 830-3146 or Linda (801) 201-6164.<br />\n
LOCATION:Grantsville Fire Station\, 26 North Center Street\, Grantsville\, UT 84029
UID:e.125.4991
SEQUENCE:3
DTSTAMP:20260421T013938Z
URL:https://business.tooelechamber.com/events/details/benefit-for-manny-food-prizes-fun-01-26-2013-4991
END:VEVENT

END:VCALENDAR
