BEGIN:VCALENDAR
VERSION:2.0
PRODID:-//ChamberMaster//Event Calendar 2.0//EN
METHOD:PUBLISH
X-PUBLISHED-TTL:P3D
REFRESH-INTERVAL:P3D
CALSCALE:GREGORIAN
BEGIN:VEVENT
DTSTART;VALUE=DATE:20100501
DTEND;VALUE=DATE:20100502
TRANSP:TRANSPARENT
X-MICROSOFT-CDO-ALLDAYEVENT:TRUE
SUMMARY:Benson Grist Mill Opening Day
DESCRIPTION:Benson Gristmill Opening DayContact 435-882-7678www.bensonmill.org
X-ALT-DESC;FMTTYPE=text/html:<div><font face="Frutiger-LightCn" size="1"><font face="Frutiger-LightCn" size="1"><p align="center"><font size="4">Benson Gristmill Opening Day</font></p><p align="center"><font size="4">Contact 435-882-7678</font></p><p align="center"><font size="4">www.bensonmill.org</font></p></font></font></div>
LOCATION:
UID:e.125.565
SEQUENCE:3
DTSTAMP:20260423T062547Z
URL:https://business.tooelechamber.com/events/details/benson-grist-mill-opening-day-05-01-2010-565
END:VEVENT

END:VCALENDAR
