BEGIN:VCALENDAR
VERSION:2.0
PRODID:-//ChamberMaster//Event Calendar 2.0//EN
METHOD:PUBLISH
X-PUBLISHED-TTL:P3D
REFRESH-INTERVAL:P3D
CALSCALE:GREGORIAN
BEGIN:VEVENT
DTSTART;VALUE=DATE:20110502
DTEND;VALUE=DATE:20110503
TRANSP:TRANSPARENT
X-MICROSOFT-CDO-ALLDAYEVENT:TRUE
SUMMARY:Benson Grist Mill Opening Day
DESCRIPTION:Benson Grist Mill Opening Day\n\n	Monday\, May 2\, 2011\n\n	Contact: www.bensonmill.org
X-ALT-DESC;FMTTYPE=text/html:<p style="text-align: center">\n	<span style="font-size: 20px">Benson Grist Mill Opening Day<br />\n	Monday\, May 2\, 2011<br />\n	Contact: <a href="http://www.bensonmill.org">www.bensonmill.org</a> </span></p>\n
LOCATION:
UID:e.125.3511
SEQUENCE:3
DTSTAMP:20260422T104739Z
URL:https://business.tooelechamber.com/events/details/benson-grist-mill-opening-day-05-02-2011-3511
END:VEVENT

END:VCALENDAR
