BEGIN:VCALENDAR
VERSION:2.0
PRODID:-//ChamberMaster//Event Calendar 2.0//EN
METHOD:PUBLISH
X-PUBLISHED-TTL:P3D
REFRESH-INTERVAL:P3D
CALSCALE:GREGORIAN
BEGIN:VEVENT
DTSTART;VALUE=DATE:20100617
DTEND;VALUE=DATE:20100618
TRANSP:TRANSPARENT
X-MICROSOFT-CDO-ALLDAYEVENT:TRUE
SUMMARY:Benson Gristmill Fun at the Mill
DESCRIPTION:Benson Gristmill Fun at the Mill
X-ALT-DESC;FMTTYPE=text/html:<div style="text-align: center"><span style="font-size: medium">Benson Gristmill Fun at the Mill</span></div>
LOCATION:
UID:e.125.2593
SEQUENCE:3
DTSTAMP:20260423T051217Z
URL:https://business.tooelechamber.com/events/details/benson-gristmill-fun-at-the-mill-06-17-2010-2593
END:VEVENT

END:VCALENDAR
