BEGIN:VCALENDAR
VERSION:2.0
PRODID:-//ChamberMaster//Event Calendar 2.0//EN
METHOD:PUBLISH
X-PUBLISHED-TTL:P3D
REFRESH-INTERVAL:P3D
CALSCALE:GREGORIAN
BEGIN:VEVENT
DTSTART;VALUE=DATE:20090810
DTEND;VALUE=DATE:20090811
TRANSP:TRANSPARENT
X-MICROSOFT-CDO-ALLDAYEVENT:TRUE
SUMMARY:Benson Gristmill Performing Arts
DESCRIPTION:Benson Gristmill Performing ArtsProduction/ Tom Sawyer Musicalwww.bensonmill.org
X-ALT-DESC;FMTTYPE=text/html:<div><font face="Frutiger-LightCn" size="1"><font face="Frutiger-LightCn" size="1"><p align="center"><font size="4">Benson Gristmill Performing Arts</font></p><p align="center"><font size="4">Production/ Tom Sawyer Musical</font></p><p align="center"><font size="4">www.bensonmill.org</font></p></font></font></div>
LOCATION:
UID:e.125.1216
SEQUENCE:3
DTSTAMP:20260423T200013Z
URL:https://business.tooelechamber.com/events/details/benson-gristmill-performing-arts-08-10-2009-1216
END:VEVENT

END:VCALENDAR
