BEGIN:VCALENDAR
VERSION:2.0
PRODID:-//ChamberMaster//Event Calendar 2.0//EN
METHOD:PUBLISH
X-PUBLISHED-TTL:P3D
REFRESH-INTERVAL:P3D
CALSCALE:GREGORIAN
BEGIN:VEVENT
DTSTART:20080503T133000Z
DTEND:20080503T133000Z
X-MICROSOFT-CDO-ALLDAYEVENT:FALSE
SUMMARY:BIKE2BIKE
DESCRIPTION:BIKE2BIKEAPRIL 23RD IS THE DEADLINE FOR ADDING INFORMATION TO THE GOODIE BAGS.FOR MORE INFORMATION CONTACTBOB KINNEYVALLEY MENTAL HEALTH801-677-0134BOB@BIKE2BIKE.ORG
X-ALT-DESC;FMTTYPE=text/html:<p>BIKE2BIKE</p><p>APRIL 23RD IS THE DEADLINE FOR ADDING INFORMATION TO THE GOODIE BAGS.</p><p>FOR MORE INFORMATION CONTACT</p><p>BOB KINNEY</p><p>VALLEY MENTAL HEALTH</p><p>801-677-0134</p><p><a href="mailto:BOB@BIKE2BIKE.ORG">BOB@BIKE2BIKE.ORG</a></p>
LOCATION:DESERET PEAK COMPLEX
UID:e.125.386
SEQUENCE:3
DTSTAMP:20260424T203728Z
URL:https://business.tooelechamber.com/events/details/bike2bike-05-03-2008-386
END:VEVENT

END:VCALENDAR
