BEGIN:VCALENDAR
VERSION:2.0
PRODID:-//ChamberMaster//Event Calendar 2.0//EN
METHOD:PUBLISH
X-PUBLISHED-TTL:P3D
REFRESH-INTERVAL:P3D
CALSCALE:GREGORIAN
BEGIN:VEVENT
DTSTART;VALUE=DATE:20110701
DTEND;VALUE=DATE:20110703
TRANSP:TRANSPARENT
X-MICROSOFT-CDO-ALLDAYEVENT:TRUE
SUMMARY:Bit N' Spur Rodeo
DESCRIPTION:Tooele Bit N' Spur Rodeo\n\n	Deseret Peak Complex\n\n	2930 West Hwy 112\, Tooele\n\n	www.deseretpeakcomplex.com\n\n	435-882-2463
X-ALT-DESC;FMTTYPE=text/html:<p style="text-align: center">\n	<span style="font-size: 20px">Tooele Bit N&#39\; Spur Rodeo<br />\n	Deseret Peak Complex<br />\n	2930 West Hwy 112\, Tooele<br />\n	www.deseretpeakcomplex.com<br />\n	435-882-2463</span></p>\n
LOCATION:
UID:e.125.3547
SEQUENCE:3
DTSTAMP:20260422T073950Z
URL:https://business.tooelechamber.com/events/details/bit-n-spur-rodeo-07-01-2011-3547
END:VEVENT

END:VCALENDAR
