BEGIN:VCALENDAR
VERSION:2.0
PRODID:-//ChamberMaster//Event Calendar 2.0//EN
METHOD:PUBLISH
X-PUBLISHED-TTL:P3D
REFRESH-INTERVAL:P3D
CALSCALE:GREGORIAN
BEGIN:VEVENT
DTSTART:20110720T180000Z
DTEND:20110720T190000Z
X-MICROSOFT-CDO-ALLDAYEVENT:FALSE
SUMMARY:Bling Strands
DESCRIPTION:Mini-Lesson\n\n	Lunch N Learn Series\n\n	Presented by: Tooele Applied Technology College\n\n	66 West Vine Street\, Tooele\n\n	Free to the public\, includes pizza lunch!\n\n	Limited seating\, RSVP's accepted for accurate lunch count\n\n	 Bling Strands with Lyle Ferguson and Cosmetology/Barbering Students\n\n	Learn how to tie bling strands\, hair tinsel\, hair shimmers in your hair and others
X-ALT-DESC;FMTTYPE=text/html:<p style="text-align: center">\n	<span style="font-size: 18px">Mini-Lesson<br />\n	Lunch N Learn Series<br />\n	Presented by: Tooele Applied Technology College<br />\n	66 West Vine Street\, Tooele<br />\n	Free to the public\, includes pizza lunch!<br />\n	Limited seating\, RSVP&#39\;s accepted for accurate lunch count<br />\n	<span _fck_bookmark="1" style="display: none">&nbsp\;</span>Bling Strands with Lyle Ferguson and Cosmetology/Barbering Students<br />\n	Learn how to tie bling strands\, hair tinsel\, hair shimmers in your hair and others </span></p>\n
LOCATION:
UID:e.125.3589
SEQUENCE:3
DTSTAMP:20260422T091050Z
URL:https://business.tooelechamber.com/events/details/bling-strands-07-20-2011-3589
END:VEVENT

END:VCALENDAR
