BEGIN:VCALENDAR
VERSION:2.0
PRODID:-//ChamberMaster//Event Calendar 2.0//EN
METHOD:PUBLISH
X-PUBLISHED-TTL:P3D
REFRESH-INTERVAL:P3D
CALSCALE:GREGORIAN
BEGIN:VEVENT
DTSTART;VALUE=DATE:20110524
DTEND;VALUE=DATE:20110525
TRANSP:TRANSPARENT
X-MICROSOFT-CDO-ALLDAYEVENT:TRUE
SUMMARY:Blue Peak Graduation
DESCRIPTION:Blue Peak High School Graduation\n\nTuesday\, May 24\, 2011
X-ALT-DESC;FMTTYPE=text/html:Blue Peak High School Graduation<br />\nTuesday\, May 24\, 2011
LOCATION:
UID:e.125.3512
SEQUENCE:3
DTSTAMP:20260422T104517Z
URL:https://business.tooelechamber.com/events/details/blue-peak-graduation-05-24-2011-3512
END:VEVENT

END:VCALENDAR
