BEGIN:VCALENDAR
VERSION:2.0
PRODID:-//ChamberMaster//Event Calendar 2.0//EN
METHOD:PUBLISH
X-PUBLISHED-TTL:P3D
REFRESH-INTERVAL:P3D
CALSCALE:GREGORIAN
BEGIN:VEVENT
DTSTART;VALUE=DATE:20100814
DTEND;VALUE=DATE:20100815
TRANSP:TRANSPARENT
X-MICROSOFT-CDO-ALLDAYEVENT:TRUE
SUMMARY:Bonneville Salt Flats (Speed Week) Begins
DESCRIPTION:Bonneville Salt Flats (Speed Week)Southern California Timing Assoc.Contact: 559-528-6279www.scta-bni.org
X-ALT-DESC;FMTTYPE=text/html:<div><font face="Frutiger-LightCn" size="1"><font face="Frutiger-LightCn" size="1"><p align="center"><font size="4">Bonneville Salt Flats (Speed Week)</font></p><p align="center"><font size="4">Southern California Timing Assoc.</font></p><p align="center"><font size="4">Contact: 559-528-6279</font></p><p align="center"><font size="4">www.scta-bni.org</font></p></font></font></div>
LOCATION:
UID:e.125.1217
SEQUENCE:3
DTSTAMP:20260423T013855Z
URL:https://business.tooelechamber.com/events/details/bonneville-salt-flats-speed-week-begins-08-14-2010-1217
END:VEVENT

END:VCALENDAR
