BEGIN:VCALENDAR
VERSION:2.0
PRODID:-//ChamberMaster//Event Calendar 2.0//EN
METHOD:PUBLISH
X-PUBLISHED-TTL:P3D
REFRESH-INTERVAL:P3D
CALSCALE:GREGORIAN
BEGIN:VEVENT
DTSTART:20121103T160000Z
DTEND:20121104T000000Z
X-MICROSOFT-CDO-ALLDAYEVENT:FALSE
SUMMARY:Boutique
DESCRIPTION:St. Marguerite Catholic School Boutique\n\n\n\nSaturday\, November 3rd 2012\n\nSt Marguerite Catholic School Parish Gym\n\n15 South 7th Street Tooele
X-ALT-DESC;FMTTYPE=text/html:<span style="font-size: 18px"><strong><span style="color: #800080"><u>St. Marguerite Catholic School Boutique</u></span></strong><br />\n<br />\n<span style="color: #000000">Saturday\, November 3rd 2012<br />\nSt Marguerite Catholic School Parish Gym<br />\n15 South 7th Street Tooele</span></span><br />\n
LOCATION:
UID:e.125.4942
SEQUENCE:3
DTSTAMP:20260421T051528Z
URL:https://business.tooelechamber.com/events/details/boutique-11-03-2012-4942
END:VEVENT

END:VCALENDAR
