BEGIN:VCALENDAR
VERSION:2.0
PRODID:-//ChamberMaster//Event Calendar 2.0//EN
METHOD:PUBLISH
X-PUBLISHED-TTL:P3D
REFRESH-INTERVAL:P3D
CALSCALE:GREGORIAN
BEGIN:VEVENT
DTSTART:20091114T200000Z
DTEND:20091114T210000Z
X-MICROSOFT-CDO-ALLDAYEVENT:FALSE
SUMMARY:Bowling for Turkeys
DESCRIPTION:Bowling for Turkeys Family Activity1-2 pmAll Star LanesMust register with Terraat 435-843-2143
X-ALT-DESC;FMTTYPE=text/html:<div align="center"><font size="4">Bowling for Turkeys </font></div><div align="center"><font size="4">Family Activity</font></div><div align="center"><font size="4">1-2 pm</font></div><div align="center"><font size="4">All Star Lanes</font></div><div align="center"><font size="4">Must register with Terra</font></div><div align="center"><font size="4">at 435-843-2143</font></div>
LOCATION:
UID:e.125.487
SEQUENCE:3
DTSTAMP:20260423T150522Z
URL:https://business.tooelechamber.com/events/details/bowling-for-turkeys-11-14-2009-487
END:VEVENT

END:VCALENDAR
