BEGIN:VCALENDAR
VERSION:2.0
PRODID:-//ChamberMaster//Event Calendar 2.0//EN
METHOD:PUBLISH
X-PUBLISHED-TTL:P3D
REFRESH-INTERVAL:P3D
CALSCALE:GREGORIAN
BEGIN:VEVENT
DTSTART:20110921T180000Z
DTEND:20110921T190000Z
X-MICROSOFT-CDO-ALLDAYEVENT:FALSE
SUMMARY:Braiding - Basic
DESCRIPTION:Mini-Lesson\n\n	Lunch N Learn Series\n\n	Presented by: Tooele Applied Technology College\n\n	66 West Vine Street\, Tooele\n\n	Free to the public\, includes pizza lunch!\n\n	Limited seating\, RSVP's accepted for accurate lunch count\n\n	 \n\n	Braiding - Basic with Lyle Ferguson and Cosmetology/Barbering Students\n\n	All thumbs when it comes to braiding hair? Learn how fun and easy it is to braid hair.
X-ALT-DESC;FMTTYPE=text/html:<p style="text-align: center">\n	<span style="font-size: 18px">Mini-Lesson<br />\n	Lunch N Learn Series<br />\n	Presented by: Tooele Applied Technology College<br />\n	66 West Vine Street\, Tooele<br />\n	Free to the public\, includes pizza lunch!<br />\n	Limited seating\, RSVP&#39\;s accepted for accurate lunch count<br />\n	<span _fck_bookmark="1" style="display: none">&nbsp\;</span><br />\n	Braiding - Basic with Lyle Ferguson and Cosmetology/Barbering Students<br />\n	All thumbs when it comes to braiding hair? Learn how fun and easy it is to braid hair. </span></p>\n
LOCATION:
UID:e.125.3591
SEQUENCE:3
DTSTAMP:20260422T043919Z
URL:https://business.tooelechamber.com/events/details/braiding-basic-09-21-2011-3591
END:VEVENT

END:VCALENDAR
