BEGIN:VCALENDAR
VERSION:2.0
PRODID:-//ChamberMaster//Event Calendar 2.0//EN
METHOD:PUBLISH
X-PUBLISHED-TTL:P3D
REFRESH-INTERVAL:P3D
CALSCALE:GREGORIAN
BEGIN:VEVENT
DTSTART:20090227T003000Z
DTEND:20090227T020000Z
X-MICROSOFT-CDO-ALLDAYEVENT:FALSE
SUMMARY:Business After Hours
DESCRIPTION:Thursday\, February 26\nWhere: Modern Victoria\n80 West Vine\, Tooele\nTime: 5 pm to 7:30\nNo charge for this event!\nGreat Networking Opportunity
X-ALT-DESC;FMTTYPE=text/html:<p align="center"><font size="4">Thursday\, February 26<br />Where: Modern Victoria<br />80 West Vine\, Tooele<br />Time: 5 pm to 7:30<br />No charge for this event!<br />Great Networking Opportunity</font></p>
LOCATION:
UID:e.125.522
SEQUENCE:3
DTSTAMP:20260424T053416Z
URL:https://business.tooelechamber.com/events/details/business-after-hours-02-26-2009-522
END:VEVENT

END:VCALENDAR
