BEGIN:VCALENDAR
VERSION:2.0
PRODID:-//ChamberMaster//Event Calendar 2.0//EN
METHOD:PUBLISH
X-PUBLISHED-TTL:P3D
REFRESH-INTERVAL:P3D
CALSCALE:GREGORIAN
BEGIN:VEVENT
DTSTART:20090423T233000Z
DTEND:20090424T010000Z
X-MICROSOFT-CDO-ALLDAYEVENT:FALSE
SUMMARY:Business After Hours
DESCRIPTION:Business After HoursThursday\, April 23\, 20095:30-7:00 pm The Home Touch\n  10 No. Main St.\, Tooele\nGreat networking opportunity\, bring your business card to enter in the drawing for prizes. If you would like\, please bring a prize\, something to help promote your business.We hope you will attend to make this event successful.
X-ALT-DESC;FMTTYPE=text/html:<div><font size="4"><span style="font-weight: bold"><p align="center"><font style="font-size: 9pt" face="Arial"><font style="font-size: 9pt" face="Arial"><font style="font-size: 9pt" face="Arial" size="5"><p align="center"><font style="font-size: 9pt" face="Arial"><font style="font-size: 9pt" face="Arial"><font style="font-size: 9pt" face="Arial"><font style="font-size: 9pt" face="Arial" size="4"><strong><font color="#ff0000" size="4">Business After Hours</font></strong></font></font></font></font></p><div align="center"><strong><font size="4">Thursday\,&nbsp\;April 23\, 2009</font></strong></div><div align="center"><strong><font color="#ff0000" size="4">5:30-7:00 pm</font></strong></div><div align="center"><font size="4">&nbsp\;The Home Touch</font><font size="4"><span style="font-weight: bold"><br />&nbsp\;&nbsp\;10 No.&nbsp\;Main St.\, Tooele</span><br /><strong>Great networking opportunity\, bring your business card </strong></font></div><div align="center"><strong><font size="4">to enter in the drawing for prizes. </font></strong></div><div align="center"><strong><font size="4">If you would like\, please bring a prize\, </font></strong></div><div align="center"><strong><font size="4">something to help&nbsp\;promote your business.</font></strong></div><div align="center"><strong><font size="4">We hope you will&nbsp\;attend to make this event successful.</font></strong></div></font></font></font></p></span></font></div>
LOCATION:
UID:e.125.2294
SEQUENCE:3
DTSTAMP:20260424T023115Z
URL:https://business.tooelechamber.com/events/details/business-after-hours-04-23-2009-2294
END:VEVENT

END:VCALENDAR
