BEGIN:VCALENDAR
VERSION:2.0
PRODID:-//ChamberMaster//Event Calendar 2.0//EN
METHOD:PUBLISH
X-PUBLISHED-TTL:P3D
REFRESH-INTERVAL:P3D
CALSCALE:GREGORIAN
BEGIN:VEVENT
DTSTART:20110428T233000Z
DTEND:20110429T010000Z
X-MICROSOFT-CDO-ALLDAYEVENT:FALSE
SUMMARY:Business After Hours
DESCRIPTION:BUSINESS AFTER HOURS \n\n	Thursday\, April 28\, 2011 from 5:30-7pm\n\n	Host: HeritageWest Credit Union   \n\n	Location: 562 North Main Street\, Tooele\n\n	Great Networking Opportunity! No Charge for this Event! \n\n	BRING YOUR BUSINESS CARD AND ENTER TO WIN A PRIZE. IF YOU WOULD LIKE\, PLEASE BRING A PROMOTIONAL ITEM FROM YOUR COMPANY TO GIVE AWAY AS A PRIZE.
X-ALT-DESC;FMTTYPE=text/html:<p align="center" class="MsoNormal" style="text-align: center\; line-height: normal\; margin: 0in 0in 0pt">\n	<b><u><span style="font-family: 'californian fb'\, 'serif'\; color: black\; font-size: 13.5pt\; mso-bidi-font-size: 11.0pt\; mso-fareast-font-family: 'times new roman'\; mso-bidi-font-family: 'times new roman'">BUSINESS AFTER HOURS </span></u></b><b style="mso-bidi-font-weight: normal"><span style="font-family: 'californian fb'\, 'serif'\; color: black\; font-size: 8.5pt\; mso-fareast-font-family: 'times new roman'\; mso-bidi-font-family: arial"><o:p></o:p></span></b></p>\n<p align="center" class="MsoNormal" style="text-align: center\; line-height: normal\; margin: 0in 0in 0pt">\n	<span style="font-family: 'californian fb'\, 'serif'\; color: black\; font-size: 13.5pt\; mso-bidi-font-size: 11.0pt\; mso-fareast-font-family: 'times new roman'\; mso-bidi-font-family: 'times new roman'\; mso-bidi-font-weight: bold">Thursday\, April 28\, 2011 from 5:30-7pm</span><span style="font-family: 'californian fb'\, 'serif'\; color: black\; font-size: 8.5pt\; mso-fareast-font-family: 'times new roman'\; mso-bidi-font-family: arial"><o:p></o:p></span></p>\n<p align="center" class="MsoNormal" style="text-align: center\; line-height: normal\; margin: 0in 0in 0pt">\n	<span style="font-family: 'californian fb'\, 'serif'\; color: black\; font-size: 13.5pt\; mso-bidi-font-size: 11.0pt\; mso-fareast-font-family: 'times new roman'\; mso-bidi-font-family: 'times new roman'\; mso-bidi-font-weight: bold">Host: HeritageWest Credit Union <span style="mso-spacerun: yes">&nbsp\;</span>&nbsp\;</span><span style="font-family: 'californian fb'\, 'serif'\; color: black\; font-size: 8.5pt\; mso-fareast-font-family: 'times new roman'\; mso-bidi-font-family: arial"><o:p></o:p></span></p>\n<p align="center" class="MsoNormal" style="text-align: center\; line-height: normal\; margin: 0in 0in 0pt">\n	<span style="font-family: 'californian fb'\, 'serif'\; color: black\; font-size: 13.5pt\; mso-bidi-font-size: 11.0pt\; mso-fareast-font-family: 'times new roman'\; mso-bidi-font-family: 'times new roman'\; mso-bidi-font-weight: bold">Location: 562 North Main Street\, Tooele</span><span style="font-family: 'californian fb'\, 'serif'\; color: black\; font-size: 8.5pt\; mso-fareast-font-family: 'times new roman'\; mso-bidi-font-family: arial"><o:p></o:p></span></p>\n<p align="center" class="MsoNormal" style="text-align: center\; line-height: normal\; margin: 0in 0in 0pt">\n	<span style="font-family: 'californian fb'\, 'serif'\; color: black\; font-size: 13.5pt\; mso-bidi-font-size: 11.0pt\; mso-fareast-font-family: 'times new roman'\; mso-bidi-font-family: 'times new roman'\; mso-bidi-font-weight: bold">Great Networking Opportunity! No Charge for this Event! <o:p></o:p></span></p>\n<p align="center" class="MsoNormal" style="text-align: center\; line-height: normal\; margin: 0in 0in 0pt">\n	<b><span style="font-family: 'californian fb'\, 'serif'\; color: black\; font-size: 13.5pt\; mso-bidi-font-size: 11.0pt\; mso-fareast-font-family: 'times new roman'\; mso-bidi-font-family: 'times new roman'">BRING YOUR BUSINESS CARD AND ENTER TO WIN A PRIZE. IF YOU WOULD LIKE\, PLEASE BRING A PROMOTIONAL ITEM FROM YOUR COMPANY TO GIVE AWAY AS A PRIZE.</span></b><b style="mso-bidi-font-weight: normal"><span style="font-family: 'californian fb'\, 'serif'\; color: black\; font-size: 8.5pt\; mso-fareast-font-family: 'times new roman'\; mso-bidi-font-family: arial"><o:p></o:p></span></b></p>\n<p class="MsoNormal" style="margin: 0in 0in 10pt">\n	<b style="mso-bidi-font-weight: normal"><span style="font-family: 'californian fb'\, 'serif'"><o:p><font color="#000000" size="3">&nbsp\;<span _fck_bookmark="1" style="display: none">&nbsp\;</span></font></o:p></span></b></p>\n
LOCATION:
UID:e.125.3625
SEQUENCE:3
DTSTAMP:20260422T122055Z
URL:https://business.tooelechamber.com/events/details/business-after-hours-04-28-2011-3625
END:VEVENT

END:VCALENDAR
