BEGIN:VCALENDAR
VERSION:2.0
PRODID:-//ChamberMaster//Event Calendar 2.0//EN
METHOD:PUBLISH
X-PUBLISHED-TTL:P3D
REFRESH-INTERVAL:P3D
CALSCALE:GREGORIAN
BEGIN:VEVENT
DTSTART:20100429T233000Z
DTEND:20100430T010000Z
X-MICROSOFT-CDO-ALLDAYEVENT:FALSE
SUMMARY:Business After Hours
DESCRIPTION:BUSINESS AFTER HOURS Thursday\,  April 29th5:30- 7 pmHost: Buy It Again Books & Gifts Location: 213 North Main Street\, TooeleGreat Networking OpportunityNo Charge for this Event! BRING YOUR BUSINESS CARD AND ENTER TO WIN A PRIZE. IF YOU WOULD LIKE\,  PLEASE BRING A PROMOTIONAL ITEM FROM YOUR COMPANY TO GIVE AWAY AS A PRIZE.
X-ALT-DESC;FMTTYPE=text/html:<div><p class="MsoPlainText" style="text-align: center\; margin: 0in 0in 0pt"><u><span style="font-size: medium"><span style="font-family: Times New Roman"><strong>BUSINESS AFTER HOURS </strong></span></span></u></p><p class="MsoPlainText" style="text-align: center\; margin: 0in 0in 0pt"><span style="font-size: medium"><span style="font-family: Times New Roman"><strong>Thursday\,<span style="mso-spacerun: yes">&nbsp\;&nbsp\;</span>April 29th</strong></span></span></p><p class="MsoPlainText" style="text-align: center\; margin: 0in 0in 0pt"><span style="font-size: medium"><span style="font-family: Times New Roman"><strong>5:30- 7 pm</strong></span></span></p><p class="MsoPlainText" style="text-align: center\; margin: 0in 0in 0pt"><span style="font-size: medium"><span style="font-family: Times New Roman"><strong>Host: Buy It Again Books &amp\; Gifts&nbsp\;</strong></span></span></p><p class="MsoPlainText" style="text-align: center\; margin: 0in 0in 0pt"><span style="font-size: medium"><span style="font-family: Times New Roman"><strong>Location: 213 North Main Street\, Tooele</strong></span></span></p><p class="MsoPlainText" style="text-align: center\; margin: 0in 0in 0pt"><span style="font-size: medium"><span style="font-family: Times New Roman"><strong>Great Networking Opportunity</strong></span></span></p><p class="MsoPlainText" style="text-align: center\; margin: 0in 0in 0pt"><span style="font-size: medium"><span style="font-family: Times New Roman"><strong>No Charge for this Event! BRING YOUR BUSINESS CARD AND ENTER TO WIN A PRIZE. IF YOU WOULD LIKE\,<span style="mso-spacerun: yes">&nbsp\; </span>PLEASE BRING A PROMOTIONAL ITEM FROM YOUR COMPANY TO GIVE AWAY AS A PRIZE.</strong></span></span></p></div>
LOCATION:
UID:e.125.3126
SEQUENCE:3
DTSTAMP:20260423T075242Z
URL:https://business.tooelechamber.com/events/details/business-after-hours-04-29-2010-3126
END:VEVENT

END:VCALENDAR
