BEGIN:VCALENDAR
VERSION:2.0
PRODID:-//ChamberMaster//Event Calendar 2.0//EN
METHOD:PUBLISH
X-PUBLISHED-TTL:P3D
REFRESH-INTERVAL:P3D
CALSCALE:GREGORIAN
BEGIN:VEVENT
DTSTART:20080522T233000Z
DTEND:20080523T010000Z
X-MICROSOFT-CDO-ALLDAYEVENT:FALSE
SUMMARY:Business After Hours
DESCRIPTION:High Uinta Pack Goats434 South Main Street\, Tooele5:30 pm to 7 pmNo Cost for this Event. \nGreat Networking Opportunity!
X-ALT-DESC;FMTTYPE=text/html:<div>High Uinta Pack Goats</div><div>434 South Main Street\, Tooele</div><div>5:30 pm to 7 pm</div><div>No Cost for this Event. <br />Great Networking Opportunity!</div>
LOCATION:High Uinta Pack Goats434 South Main Street\, Tooele
UID:e.125.431
SEQUENCE:3
DTSTAMP:20260424T203515Z
URL:https://business.tooelechamber.com/events/details/business-after-hours-05-22-2008-431
END:VEVENT

END:VCALENDAR
