BEGIN:VCALENDAR
VERSION:2.0
PRODID:-//ChamberMaster//Event Calendar 2.0//EN
METHOD:PUBLISH
X-PUBLISHED-TTL:P3D
REFRESH-INTERVAL:P3D
CALSCALE:GREGORIAN
BEGIN:VEVENT
DTSTART:20120628T233000Z
DTEND:20120629T010000Z
X-MICROSOFT-CDO-ALLDAYEVENT:FALSE
SUMMARY:Business After Hours
DESCRIPTION:Business After Hours\n\n	Hosted by: Oquirreh Hills Golf Course and Proshop\n\n	1255 East Vine St.\, Tooele\n\n	5:30 - 7:00 p.m.\n\n	Free Event
X-ALT-DESC;FMTTYPE=text/html:<p>\n	<br />\n	<strong><span style="font-size: 20px"><u>Business After Hours</u><br />\n	Hosted by: Oquirreh Hills Golf Course and Proshop<br />\n	1255 East Vine St.\, Tooele<br />\n	5:30 - 7:00 p.m.<br />\n	Free Event</span></strong><br />\n	&nbsp\;</p>\n
LOCATION:
UID:e.125.4650
SEQUENCE:3
DTSTAMP:20260421T140921Z
URL:https://business.tooelechamber.com/events/details/business-after-hours-06-28-2012-4650
END:VEVENT

END:VCALENDAR
