BEGIN:VCALENDAR
VERSION:2.0
PRODID:-//ChamberMaster//Event Calendar 2.0//EN
METHOD:PUBLISH
X-PUBLISHED-TTL:P3D
REFRESH-INTERVAL:P3D
CALSCALE:GREGORIAN
BEGIN:VEVENT
DTSTART:20110728T233000Z
DTEND:20110729T010000Z
X-MICROSOFT-CDO-ALLDAYEVENT:FALSE
SUMMARY:Business After Hours
DESCRIPTION:BUSINESS AFTER HOURS \n\n	Thursday\, July 28\, 2011 from 5:30-7pm\n\n	Host: Tooele Valley Imaging    \n\n	Location: 2356 North 400 East\, Bldg B #103\, Tooele\n\n	Great Networking Opportunity! No Charge for this Event! \n\n	BRING YOUR BUSINESS CARD AND ENTER TO WIN A PRIZE. IF YOU WOULD LIKE\, PLEASE BRING A PROMOTIONAL ITEM FROM YOUR COMPANY TO GIVE AWAY AS A PRIZE.
X-ALT-DESC;FMTTYPE=text/html:<p align="center" class="MsoNormal" style="text-align: center\; line-height: normal\; margin: 0in 0in 0pt">\n	<b><u><span style="font-family: 'californian fb'\, 'serif'\; color: black\; font-size: 13.5pt\; mso-bidi-font-size: 11.0pt\; mso-fareast-font-family: 'times new roman'\; mso-bidi-font-family: 'times new roman'">BUSINESS AFTER HOURS </span></u></b></p>\n<p align="center" class="MsoNormal" style="text-align: center\; line-height: normal\; margin: 0in 0in 0pt">\n	<span style="font-family: 'californian fb'\, 'serif'\; color: black\; font-size: 13.5pt\; mso-bidi-font-size: 11.0pt\; mso-fareast-font-family: 'times new roman'\; mso-bidi-font-family: 'times new roman'\; mso-bidi-font-weight: bold">Thursday\, July 28\, 2011 from 5:30-7pm</span></p>\n<p align="center" class="MsoNormal" style="text-align: center\; line-height: normal\; margin: 0in 0in 0pt">\n	<span style="font-family: 'californian fb'\, 'serif'\; color: black\; font-size: 13.5pt\; mso-bidi-font-size: 11.0pt\; mso-fareast-font-family: 'times new roman'\; mso-bidi-font-family: 'times new roman'\; mso-bidi-font-weight: bold">Host: Tooele Valley Imaging <span style="mso-spacerun: yes">&nbsp\;</span><span style="mso-spacerun: yes">&nbsp\;</span>&nbsp\;</span></p>\n<p align="center" class="MsoNormal" style="text-align: center\; line-height: normal\; margin: 0in 0in 0pt">\n	<span style="font-family: 'californian fb'\, 'serif'\; color: black\; font-size: 13.5pt\; mso-bidi-font-size: 11.0pt\; mso-fareast-font-family: 'times new roman'\; mso-bidi-font-family: 'times new roman'\; mso-bidi-font-weight: bold">Location: 2356 North 400 East\, Bldg B&nbsp\;#103\, Tooele</span></p>\n<p align="center" class="MsoNormal" style="text-align: center\; line-height: normal\; margin: 0in 0in 0pt">\n	<span style="font-family: 'californian fb'\, 'serif'\; color: black\; font-size: 13.5pt\; mso-bidi-font-size: 11.0pt\; mso-fareast-font-family: 'times new roman'\; mso-bidi-font-family: 'times new roman'\; mso-bidi-font-weight: bold">Great Networking Opportunity! No Charge for this Event! </span></p>\n<p align="center" class="MsoNormal" style="text-align: center\; line-height: normal\; margin: 0in 0in 0pt">\n	<b><span style="font-family: 'californian fb'\, 'serif'\; color: black\; font-size: 13.5pt\; mso-bidi-font-size: 11.0pt\; mso-fareast-font-family: 'times new roman'\; mso-bidi-font-family: 'times new roman'">BRING YOUR BUSINESS CARD AND ENTER TO WIN A PRIZE. IF YOU WOULD LIKE\, PLEASE BRING A PROMOTIONAL ITEM FROM YOUR COMPANY TO GIVE AWAY AS A PRIZE.</span></b></p>\n<p class="MsoNormal" style="margin: 0in 0in 10pt">\n	<b style="mso-bidi-font-weight: normal"><span style="font-family: 'californian fb'\, 'serif'"><font color="#000000" size="3">&nbsp\;<span _fck_bookmark="1" style="display: none">&nbsp\;</span></font></span></b></p>\n
LOCATION:
UID:e.125.3627
SEQUENCE:3
DTSTAMP:20260422T075241Z
URL:https://business.tooelechamber.com/events/details/business-after-hours-07-28-2011-3627
END:VEVENT

END:VCALENDAR
