BEGIN:VCALENDAR
VERSION:2.0
PRODID:-//ChamberMaster//Event Calendar 2.0//EN
METHOD:PUBLISH
X-PUBLISHED-TTL:P3D
REFRESH-INTERVAL:P3D
CALSCALE:GREGORIAN
BEGIN:VEVENT
DTSTART:20100819T233000Z
DTEND:20100820T010000Z
X-MICROSOFT-CDO-ALLDAYEVENT:FALSE
SUMMARY:Business After Hours
DESCRIPTION:Business After HoursThursday\, August 19th Bonneville Sea Base\n 9390 W Hwy 138\, Tooele\n 5:30 - 7 pm\n Great Networking Opportunity - No Charge for this Event!\nBring your business card and enter to win a prize. If you would like\,please bring a promotional item from your company to give away as a prize
X-ALT-DESC;FMTTYPE=text/html:<div><p class="MsoNormal" align="center" style="text-align: center\; margin: 0in 0in 0pt"><u><span style="font-size: medium"><b><span style="color: black\; mso-fareast-font-family: &rsquo\;Times New Roman&rsquo\;"><font face="Times New Roman">Business After Hours</font></span></b></span></u></p><p class="MsoNormal" align="center" style="text-align: center\; margin: 0in 0in 0pt"><span style="font-size: small"><strong><span style="color: black\; mso-fareast-font-family: &rsquo\;Times New Roman&rsquo\;"><font face="Times New Roman">Thursday\, August 19th </font></span></strong></span></p><u1:p></u1:p><p class="MsoNormal" align="center" style="text-align: center\; margin: 0in 0in 0pt"><b><span style="color: black\; mso-fareast-font-family: &rsquo\;Times New Roman&rsquo\;"><font size="3"><font face="Times New Roman">Bonneville Sea Base<br />&nbsp\;9390 W Hwy 138\,&nbsp\;Tooele<br />&nbsp\;5:30 - 7 pm<br />&nbsp\;Great Networking Opportunity - No Charge for this Event!</font></font></span></b><b><span style="color: black\; mso-fareast-font-family: &rsquo\;Times New Roman&rsquo\;"><font size="3" face="Times New Roman"><br /></font></span></b><b><span style="color: black\; mso-fareast-font-family: &rsquo\;Times New Roman&rsquo\;"><font size="3" face="Times New Roman">Bring your business card and enter to win a prize. If you would like\,</font></span></b></p><u1:p></u1:p><p class="MsoNormal" align="center" style="text-align: center\; margin: 0in 0in 0pt"><b><span style="color: black\; mso-fareast-font-family: &rsquo\;Times New Roman&rsquo\;"><font size="3" face="Times New Roman">please bring a promotional item from your company to give away as a prize</font></span></b><o:p></o:p></p><u1:p></u1:p><u1:p></u1:p></div>
LOCATION:
UID:e.125.3111
SEQUENCE:3
DTSTAMP:20260423T013528Z
URL:https://business.tooelechamber.com/events/details/business-after-hours-08-19-2010-3111
END:VEVENT

END:VCALENDAR
